FILENAME: O4811001.NES.1115491.tif
QUADRANGLE_NAME: LAIRD SCHOOL
QUADRANT: NE
WEST_LONGITUDE: -110 56 15.00000
EAST_LONGITUDE: -110 52 30.00000
NORTH_LATITUDE: 49 0 0.00000
SOUTH_LATITUDE: 48 56 15.00000
PRODUCTION_DATE: 2000 11 1
RASTER_ORDER: LEFT_RIGHT/TOP_BOTTOM
BAND_ORGANIZATION: SINGLE FILE
BAND_CONTENT: BLACK&WHITE
BAND_CONTENT: UNDEFINED
BAND_CONTENT: UNDEFINED
BITS_PER_PIXEL: 8
SAMPLES_AND_LINES: 5244 7558
HORIZONTAL_DATUM: NAD83
HORIZONTAL_COORDINATE_SYSTEM: UTM
COORDINATE_ZONE: 12
HORIZONTAL_UNITS: METERS
HORIZONTAL_RESOLUTION: 1.00000
SECONDARY_HORIZONTAL_DATUM: NAD27
XY_ORIGIN: 504212.00000 5427765.00000
SECONDARY_XY_ORIGIN: 504270.27100 5427544.92700
NATION: US
NATION: CA
NATION: "SCIENCE
STATE: MT
NW_QUAD_CORNER_XY: 504571.40800 5427457.66200
NE_QUAD_CORNER_XY: 509142.81500 5427463.30800
SE_QUAD_CORNERY_XY: 509154.24900 5420515.51900
SW_QUAD_CORNER_XY: 504577.12500 5420509.87200
SECONDARY_NW_QUAD_XY: 504571.55400 5427238.65200
SECONDARY_NE_QUAD_XY: 509143.10800 5427244.29800
SECONDARY_SE_QUAD_XY: 509154.54200 5420296.51100
SECONDARY_SW_QUAD_XY: 504577.27200 5420290.86400
RMSE_XY: 1.50000
IMAGE_SOURCE: BLACK AND WHITE FILM
SOURCE_IMAGE_ID: NAPP 9169 037
SOURCE_IMAGE_DATE: 1997 07 25
SOURCE_DEM_DATE: 1962 00 00
AGENCY: WESTERN MAPPING CENTER (WMC)
PRODUCER: UNDEFINED
PRODUCTION_SYSTEM: GIS/MAGIC
COMPRESSION: UNDEFINED
STANDARD_VERSION: 1996 12
METADATA_DATE: 2000 11 29
DATA_FILE_SIZE: 39639396
BYTE_COUNT: 5244
