FILENAME: O4811002.SES.1115517.tif
QUADRANGLE_NAME: BOBCAT COULEE NE
QUADRANT: SE
WEST_LONGITUDE: -110 48 45.00000
EAST_LONGITUDE: -110 45 0.00000
NORTH_LATITUDE: 48 56 15.00000
SOUTH_LATITUDE: 48 52 30.00000
PRODUCTION_DATE: 2000 11 1
RASTER_ORDER: LEFT_RIGHT/TOP_BOTTOM
BAND_ORGANIZATION: SINGLE FILE
BAND_CONTENT: BLACK&WHITE
BAND_CONTENT: UNDEFINED
BAND_CONTENT: UNDEFINED
BITS_PER_PIXEL: 8
SAMPLES_AND_LINES: 5262 7564
HORIZONTAL_DATUM: NAD83
HORIZONTAL_COORDINATE_SYSTEM: UTM
COORDINATE_ZONE: 12
HORIZONTAL_UNITS: METERS
HORIZONTAL_RESOLUTION: 1.00000
SECONDARY_HORIZONTAL_DATUM: NAD27
XY_ORIGIN: 513371.00000 5420839.00000
SECONDARY_XY_ORIGIN: 513429.85600 5420619.67300
NATION: US
NATION: "SCIENCE
STATE: MT
NW_QUAD_CORNER_XY: 513731.37100 5420524.93100
NE_QUAD_CORNER_XY: 518308.49200 5420538.10700
SE_QUAD_CORNERY_XY: 518331.33800 5413590.40100
SW_QUAD_CORNER_XY: 513748.50600 5413577.22100
SECONDARY_NW_QUAD_XY: 513731.81200 5420305.92300
SECONDARY_NE_QUAD_XY: 518309.07900 5420319.09900
SECONDARY_SE_QUAD_XY: 518331.92600 5413371.39600
SECONDARY_SW_QUAD_XY: 513748.94700 5413358.21600
RMSE_XY: 1.60000
IMAGE_SOURCE: BLACK AND WHITE FILM
SOURCE_IMAGE_ID: NAPP 9167 317
SOURCE_IMAGE_DATE: 1996 08 26
SOURCE_DEM_DATE: 1962 00 00
AGENCY: WESTERN MAPPING CENTER (WMC)
PRODUCER: UNDEFINED
PRODUCTION_SYSTEM: GIS/MAGIC
COMPRESSION: UNDEFINED
STANDARD_VERSION: 1996 12
METADATA_DATE: 2000 11 29
DATA_FILE_SIZE: 39807030
BYTE_COUNT: 5262
