FILENAME: Y:\DOQQ\replacements\temp\193\O4811002.NWS.1115516.tif
QUADRANGLE_NAME: BOBCAT COULEE NE
QUADRANT: NW
WEST_LONGITUDE: -110 52 30.00000
EAST_LONGITUDE: -110 48 45.00000
NORTH_LATITUDE: 49 0 0.00000
SOUTH_LATITUDE: 48 56 15.00000
PRODUCTION_DATE: 2000 11 1
RASTER_ORDER: LEFT_RIGHT/TOP_BOTTOM
BAND_ORGANIZATION: SINGLE FILE
BAND_CONTENT: BLACK&WHITE
BAND_CONTENT: UNDEFINED
BAND_CONTENT: UNDEFINED
BITS_PER_PIXEL: 8
SAMPLES_AND_LINES: 5250 7561
HORIZONTAL_DATUM: NAD83
HORIZONTAL_COORDINATE_SYSTEM: UTM
COORDINATE_ZONE: 12
HORIZONTAL_UNITS: METERS
HORIZONTAL_RESOLUTION: 1.00000
SECONDARY_HORIZONTAL_DATUM: NAD27
XY_ORIGIN: 508783.00000 5427774.00000
SECONDARY_XY_ORIGIN: 508841.48300 5427554.14000
NATION: US
NATION: CA
NATION: "SCIENCE
STATE: MT
NW_QUAD_CORNER_XY: 509142.81500 5427463.30800
NE_QUAD_CORNER_XY: 513714.22000 5427472.71600
SE_QUAD_CORNERY_XY: 513731.37100 5420524.93100
SW_QUAD_CORNER_XY: 509154.24900 5420515.51900
SECONDARY_NW_QUAD_XY: 509143.10800 5427244.29800
SECONDARY_NE_QUAD_XY: 513714.66000 5427253.70700
SECONDARY_SE_QUAD_XY: 513731.81200 5420305.92300
SECONDARY_SW_QUAD_XY: 509154.54200 5420296.51100
RMSE_XY: 1.20000
IMAGE_SOURCE: BLACK AND WHITE FILM
SOURCE_IMAGE_ID: NAPP 9168 010
SOURCE_IMAGE_DATE: 1996 08 26
SOURCE_IMAGE_ID: NAPP 9169 038
SOURCE_IMAGE_DATE: 1997 07 25
SOURCE_DEM_DATE: 1962 00 00
AGENCY: WESTERN MAPPING CENTER (WMC)
PRODUCER: UNDEFINED
PRODUCTION_SYSTEM: GIS/MAGIC
COMPRESSION: UNDEFINED
STANDARD_VERSION: 1996 12
METADATA_DATE: 2000 11 29
DATA_FILE_SIZE: 39700500
BYTE_COUNT: 5250
