FILENAME: O4811003.NWS.1115528.tif
QUADRANGLE_NAME: LAIRD LAKE
QUADRANT: NW
WEST_LONGITUDE: -110 45 0.00000
EAST_LONGITUDE: -110 41 15.00000
NORTH_LATITUDE: 49 0 0.00000
SOUTH_LATITUDE: 48 56 15.00000
PRODUCTION_DATE: 2000 11 2
RASTER_ORDER: LEFT_RIGHT/TOP_BOTTOM
BAND_ORGANIZATION: SINGLE FILE
BAND_CONTENT: BLACK&WHITE
BAND_CONTENT: UNDEFINED
BAND_CONTENT: UNDEFINED
BITS_PER_PIXEL: 8
SAMPLES_AND_LINES: 5261 7568
HORIZONTAL_DATUM: NAD83
HORIZONTAL_COORDINATE_SYSTEM: UTM
COORDINATE_ZONE: 12
HORIZONTAL_UNITS: METERS
HORIZONTAL_RESOLUTION: 1.00000
SECONDARY_HORIZONTAL_DATUM: NAD27
XY_ORIGIN: 517926.00000 5427804.00000
SECONDARY_XY_ORIGIN: 517984.91100 5427584.56900
NATION: US
NATION: CA
NATION: "SCIENCE
STATE: MT
NW_QUAD_CORNER_XY: 518285.62300 5427485.88800
NE_QUAD_CORNER_XY: 522857.02300 5427502.82400
SE_QUAD_CORNERY_XY: 522885.60900 5420555.04800
SW_QUAD_CORNER_XY: 518308.49200 5420538.10700
SECONDARY_NW_QUAD_XY: 518286.21000 5427266.87900
SECONDARY_NE_QUAD_XY: 522857.75700 5427283.81500
SECONDARY_SE_QUAD_XY: 522886.34300 5420336.04100
SECONDARY_SW_QUAD_XY: 518309.07900 5420319.09900
RMSE_XY: 1.00000
IMAGE_SOURCE: BLACK AND WHITE FILM
SOURCE_IMAGE_ID: NAPP 9177 207
SOURCE_IMAGE_DATE: 1997 09 04
SOURCE_DEM_DATE: 1970 00 00
AGENCY: WESTERN MAPPING CENTER (WMC)
PRODUCER: UNDEFINED
PRODUCTION_SYSTEM: GIS/MAGIC
COMPRESSION: UNDEFINED
STANDARD_VERSION: 1996 12
METADATA_DATE: 2000 11 29
DATA_FILE_SIZE: 39820509
BYTE_COUNT: 5261
