FILENAME: O4811006.NES.1115084.tif
QUADRANGLE_NAME: LOST RIVER NE
QUADRANT: NE
WEST_LONGITUDE: -110 18 45.00000
EAST_LONGITUDE: -110 15 0.00000
NORTH_LATITUDE: 49 0 0.00000
SOUTH_LATITUDE: 48 56 15.00000
PRODUCTION_DATE: 2000 11 2
RASTER_ORDER: LEFT_RIGHT/TOP_BOTTOM
BAND_ORGANIZATION: SINGLE FILE
BAND_CONTENT: BLACK&WHITE
BAND_CONTENT: UNDEFINED
BAND_CONTENT: UNDEFINED
BITS_PER_PIXEL: 8
SAMPLES_AND_LINES: 5300 7595
HORIZONTAL_DATUM: NAD83
HORIZONTAL_COORDINATE_SYSTEM: UTM
COORDINATE_ZONE: 12
HORIZONTAL_UNITS: METERS
HORIZONTAL_RESOLUTION: 1.00000
SECONDARY_HORIZONTAL_DATUM: NAD27
XY_ORIGIN: 549927.00000 5428028.00000
SECONDARY_XY_ORIGIN: 549984.94400 5427808.33000
NATION: US
NATION: CA
NATION: "SCIENCE
STATE: MT
NW_QUAD_CORNER_XY: 550285.31900 5427683.47400
NE_QUAD_CORNER_XY: 554856.67700 5427726.75600
SE_QUAD_CORNERY_XY: 554925.28600 5420779.04700
SW_QUAD_CORNER_XY: 550348.21000 5420735.75200
SECONDARY_NW_QUAD_XY: 550286.93400 5427464.47100
SECONDARY_NE_QUAD_XY: 554858.43900 5427507.75400
SECONDARY_SE_QUAD_XY: 554927.04800 5420560.04700
SECONDARY_SW_QUAD_XY: 550349.82500 5420516.75100
RMSE_XY: 0.60000
IMAGE_SOURCE: BLACK AND WHITE FILM
SOURCE_IMAGE_ID: NAPP 9177 107
SOURCE_IMAGE_DATE: 1997 09 04
SOURCE_DEM_DATE: 1970 00 00
AGENCY: WESTERN MAPPING CENTER (WMC)
PRODUCER: UNDEFINED
PRODUCTION_SYSTEM: GIS/MAGIC
COMPRESSION: UNDEFINED
STANDARD_VERSION: 1996 12
METADATA_DATE: 2000 11 29
DATA_FILE_SIZE: 40258800
BYTE_COUNT: 5300
