FILENAME: O4811007.SWS.1115099.tif
QUADRANGLE_NAME: SIMPSON
QUADRANT: SW
WEST_LONGITUDE: -110 15 0.00000
EAST_LONGITUDE: -110 11 15.00000
NORTH_LATITUDE: 48 56 15.00000
SOUTH_LATITUDE: 48 52 30.00000
PRODUCTION_DATE: 2000 10 16
RASTER_ORDER: LEFT_RIGHT/TOP_BOTTOM
BAND_ORGANIZATION: SINGLE FILE
BAND_CONTENT: BLACK&WHITE
BAND_CONTENT: UNDEFINED
BAND_CONTENT: UNDEFINED
BITS_PER_PIXEL: 8
SAMPLES_AND_LINES: 5310 7598
HORIZONTAL_DATUM: NAD83
HORIZONTAL_COORDINATE_SYSTEM: UTM
COORDINATE_ZONE: 12
HORIZONTAL_UNITS: METERS
HORIZONTAL_RESOLUTION: 1.00000
SECONDARY_HORIZONTAL_DATUM: NAD27
XY_ORIGIN: 554568.00000 5421127.00000
SECONDARY_XY_ORIGIN: 554625.87000 5420907.61700
NATION: US
NATION: "SCIENCE
STATE: MT
NW_QUAD_CORNER_XY: 554925.28600 5420779.04700
NE_QUAD_CORNER_XY: 559502.35300 5420826.10700
SE_QUAD_CORNERY_XY: 559576.60800 5413878.48600
SW_QUAD_CORNER_XY: 554993.82900 5413831.41200
SECONDARY_NW_QUAD_XY: 554927.04800 5420560.04700
SECONDARY_NE_QUAD_XY: 559504.26200 5420607.10800
SECONDARY_SE_QUAD_XY: 559578.51700 5413659.49000
SECONDARY_SW_QUAD_XY: 554995.59100 5413612.41500
RMSE_XY: 0.90000
IMAGE_SOURCE: BLACK AND WHITE FILM
SOURCE_IMAGE_ID: NAPP 9177 014
SOURCE_IMAGE_DATE: 1997 09 04
SOURCE_IMAGE_ID: NAPP 9177 015
SOURCE_IMAGE_DATE: 1997 09 04
SOURCE_DEM_DATE: 1970 00 00
AGENCY: WESTERN MAPPING CENTER (WMC)
PRODUCER: UNDEFINED
PRODUCTION_SYSTEM: GIS/MAGIC
COMPRESSION: UNDEFINED
STANDARD_VERSION: 1996 12
METADATA_DATE: 2000 11 29
DATA_FILE_SIZE: 40350690
BYTE_COUNT: 5310
