FILENAME: O4811007.NWS.1115097.tif
QUADRANGLE_NAME: SIMPSON
QUADRANT: NW
WEST_LONGITUDE: -110 15 0.00000
EAST_LONGITUDE: -110 11 15.00000
NORTH_LATITUDE: 49 0 0.00000
SOUTH_LATITUDE: 48 56 15.00000
PRODUCTION_DATE: 2000 11 2
RASTER_ORDER: LEFT_RIGHT/TOP_BOTTOM
BAND_ORGANIZATION: SINGLE FILE
BAND_CONTENT: BLACK&WHITE
BAND_CONTENT: UNDEFINED
BAND_CONTENT: UNDEFINED
BITS_PER_PIXEL: 8
SAMPLES_AND_LINES: 5305 7598
HORIZONTAL_DATUM: NAD83
HORIZONTAL_COORDINATE_SYSTEM: UTM
COORDINATE_ZONE: 12
HORIZONTAL_UNITS: METERS
HORIZONTAL_RESOLUTION: 1.00000
SECONDARY_HORIZONTAL_DATUM: NAD27
XY_ORIGIN: 554499.00000 5428075.00000
SECONDARY_XY_ORIGIN: 554556.77500 5427855.30100
NATION: US
NATION: CA
NATION: "SCIENCE
STATE: MT
NW_QUAD_CORNER_XY: 554856.67700 5427726.75600
NE_QUAD_CORNER_XY: 559428.02600 5427773.80100
SE_QUAD_CORNERY_XY: 559502.35300 5420826.10700
SW_QUAD_CORNER_XY: 554925.28600 5420779.04700
SECONDARY_NW_QUAD_XY: 554858.43900 5427507.75400
SECONDARY_NE_QUAD_XY: 559429.93500 5427554.80100
SECONDARY_SE_QUAD_XY: 559504.26200 5420607.10800
SECONDARY_SW_QUAD_XY: 554927.04800 5420560.04700
RMSE_XY: 0.80000
IMAGE_SOURCE: BLACK AND WHITE FILM
SOURCE_IMAGE_ID: NAPP 9177 012
SOURCE_IMAGE_DATE: 1997 09 04
SOURCE_DEM_DATE: 1970 00 00
AGENCY: WESTERN MAPPING CENTER (WMC)
PRODUCER: UNDEFINED
PRODUCTION_SYSTEM: GIS/MAGIC
COMPRESSION: UNDEFINED
STANDARD_VERSION: 1996 12
METADATA_DATE: 2000 11 29
DATA_FILE_SIZE: 40312695
BYTE_COUNT: 5305
