FILENAME: O4811008.SES.1115122.tif
QUADRANGLE_NAME: WILD HORSE LAKE WEST
QUADRANT: SE
WEST_LONGITUDE: -110 3 45.00000
EAST_LONGITUDE: -110 0 0.00000
NORTH_LATITUDE: 48 56 15.00000
SOUTH_LATITUDE: 48 52 30.00000
PRODUCTION_DATE: 2000 10 16
RASTER_ORDER: LEFT_RIGHT/TOP_BOTTOM
BAND_ORGANIZATION: SINGLE FILE
BAND_CONTENT: BLACK&WHITE
BAND_CONTENT: UNDEFINED
BAND_CONTENT: UNDEFINED
BITS_PER_PIXEL: 8
SAMPLES_AND_LINES: 5327 7610
HORIZONTAL_DATUM: NAD83
HORIZONTAL_COORDINATE_SYSTEM: UTM
COORDINATE_ZONE: 12
HORIZONTAL_UNITS: METERS
HORIZONTAL_RESOLUTION: 1.00000
SECONDARY_HORIZONTAL_DATUM: NAD27
XY_ORIGIN: 568299.00000 5421291.00000
SECONDARY_XY_ORIGIN: 568356.91000 5421071.70100
NATION: US
NATION: "SCIENCE
STATE: MT
NW_QUAD_CORNER_XY: 568656.45800 5420931.52200
NE_QUAD_CORNER_XY: 573233.49400 5420989.87700
SE_QUAD_CORNERY_XY: 573324.88700 5414042.30500
SW_QUAD_CORNER_XY: 568742.13800 5413983.93200
SECONDARY_NW_QUAD_XY: 568658.66000 5420712.52700
SECONDARY_NE_QUAD_XY: 573235.84300 5420770.88400
SECONDARY_SE_QUAD_XY: 573327.23600 5413823.31500
SECONDARY_SW_QUAD_XY: 568744.34100 5413764.94000
RMSE_XY: 2.00000
IMAGE_SOURCE: BLACK AND WHITE FILM
SOURCE_IMAGE_ID: NAPP 9178 232
SOURCE_IMAGE_DATE: 1997 09 04
SOURCE_DEM_DATE: 1993 00 00
AGENCY: WESTERN MAPPING CENTER (WMC)
PRODUCER: UNDEFINED
PRODUCTION_SYSTEM: GIS/MAGIC
COMPRESSION: UNDEFINED
STANDARD_VERSION: 1996 12
METADATA_DATE: 2000 11 29
DATA_FILE_SIZE: 40543797
BYTE_COUNT: 5327
