FILENAME: O4811011.SES.1115533.tif
QUADRANGLE_NAME: GOLDSTONE SW
QUADRANT: SE
WEST_LONGITUDE: -110 41 15.00000
EAST_LONGITUDE: -110 37 30.00000
NORTH_LATITUDE: 48 48 45.00000
SOUTH_LATITUDE: 48 45 0.00000
PRODUCTION_DATE: 2000 11 2
RASTER_ORDER: LEFT_RIGHT/TOP_BOTTOM
BAND_ORGANIZATION: SINGLE FILE
BAND_CONTENT: BLACK&WHITE
BAND_CONTENT: UNDEFINED
BAND_CONTENT: UNDEFINED
BITS_PER_PIXEL: 8
SAMPLES_AND_LINES: 5284 7572
HORIZONTAL_DATUM: NAD83
HORIZONTAL_COORDINATE_SYSTEM: UTM
COORDINATE_ZONE: 12
HORIZONTAL_UNITS: METERS
HORIZONTAL_RESOLUTION: 1.00000
SECONDARY_HORIZONTAL_DATUM: NAD27
XY_ORIGIN: 522583.00000 5406981.00000
SECONDARY_XY_ORIGIN: 522642.08100 5406762.38600
NATION: US
NATION: "SCIENCE
STATE: MT
NW_QUAD_CORNER_XY: 522942.69800 5406659.72100
NE_QUAD_CORNER_XY: 527531.23000 5406680.43900
SE_QUAD_CORNERY_XY: 527565.43400 5399732.89500
SW_QUAD_CORNER_XY: 522971.20200 5399712.17100
SECONDARY_NW_QUAD_XY: 522943.43300 5406440.72000
SECONDARY_NE_QUAD_XY: 527532.11100 5406461.43900
SECONDARY_SE_QUAD_XY: 527566.31500 5399513.89900
SECONDARY_SW_QUAD_XY: 522971.93600 5399493.17500
RMSE_XY: 1.70000
IMAGE_SOURCE: BLACK AND WHITE FILM
SOURCE_IMAGE_ID: NAPP 9167 206
SOURCE_IMAGE_DATE: 1996 08 26
SOURCE_DEM_DATE: 1993 00 00
AGENCY: WESTERN MAPPING CENTER (WMC)
PRODUCER: UNDEFINED
PRODUCTION_SYSTEM: GIS/MAGIC
COMPRESSION: UNDEFINED
STANDARD_VERSION: 1996 12
METADATA_DATE: 2000 11 29
DATA_FILE_SIZE: 40015732
BYTE_COUNT: 5284
