FILENAME: O4811012.NWS.1115556.tif
QUADRANGLE_NAME: MCKINNSEY RESERVOIR WEST
QUADRANT: NW
WEST_LONGITUDE: -110 37 30.00000
EAST_LONGITUDE: -110 33 45.00000
NORTH_LATITUDE: 48 52 30.00000
SOUTH_LATITUDE: 48 48 45.00000
PRODUCTION_DATE: 2000 11 2
RASTER_ORDER: LEFT_RIGHT/TOP_BOTTOM
BAND_ORGANIZATION: SINGLE FILE
BAND_CONTENT: BLACK&WHITE
BAND_CONTENT: UNDEFINED
BAND_CONTENT: UNDEFINED
BITS_PER_PIXEL: 8
SAMPLES_AND_LINES: 5283 7575
HORIZONTAL_DATUM: NAD83
HORIZONTAL_COORDINATE_SYSTEM: UTM
COORDINATE_ZONE: 12
HORIZONTAL_UNITS: METERS
HORIZONTAL_RESOLUTION: 1.00000
SECONDARY_HORIZONTAL_DATUM: NAD27
XY_ORIGIN: 527138.00000 5413953.00000
SECONDARY_XY_ORIGIN: 527196.85100 5413734.07800
NATION: US
NATION: "SCIENCE
STATE: MT
NW_QUAD_CORNER_XY: 527496.99300 5413628.05800
NE_QUAD_CORNER_XY: 532079.81400 5413652.53600
SE_QUAD_CORNERY_XY: 532119.75800 5406704.92300
SW_QUAD_CORNER_XY: 527531.23000 5406680.43900
SECONDARY_NW_QUAD_XY: 527497.87400 5413409.05500
SECONDARY_NE_QUAD_XY: 532080.84200 5413433.53300
SECONDARY_SE_QUAD_XY: 532120.78500 5406485.92400
SECONDARY_SW_QUAD_XY: 527532.11100 5406461.43900
RMSE_XY: 1.00000
IMAGE_SOURCE: BLACK AND WHITE FILM
SOURCE_IMAGE_ID: NAPP 9167 123
SOURCE_IMAGE_DATE: 1996 08 26
SOURCE_DEM_DATE: 1970 00 00
AGENCY: WESTERN MAPPING CENTER (WMC)
PRODUCER: UNDEFINED
PRODUCTION_SYSTEM: GIS/MAGIC
COMPRESSION: UNDEFINED
STANDARD_VERSION: 1996 12
METADATA_DATE: 2000 11 29
DATA_FILE_SIZE: 40024008
BYTE_COUNT: 5283
