FILENAME: O4811014.SWS.1115075.tif
QUADRANGLE_NAME: NINEMILE COULEE WEST
QUADRANT: SW
WEST_LONGITUDE: -110 22 30.00000
EAST_LONGITUDE: -110 18 45.00000
NORTH_LATITUDE: 48 48 45.00000
SOUTH_LATITUDE: 48 45 0.00000
PRODUCTION_DATE: 2000 10 13
RASTER_ORDER: LEFT_RIGHT/TOP_BOTTOM
BAND_ORGANIZATION: SINGLE FILE
BAND_CONTENT: BLACK&WHITE
BAND_CONTENT: UNDEFINED
BAND_CONTENT: UNDEFINED
BITS_PER_PIXEL: 8
SAMPLES_AND_LINES: 5311 7591
HORIZONTAL_DATUM: NAD83
HORIZONTAL_COORDINATE_SYSTEM: UTM
COORDINATE_ZONE: 12
HORIZONTAL_UNITS: METERS
HORIZONTAL_RESOLUTION: 1.00000
SECONDARY_HORIZONTAL_DATUM: NAD27
XY_ORIGIN: 545527.00000 5407141.00000
SECONDARY_XY_ORIGIN: 545585.37500 5406922.29800
NATION: US
NATION: "SCIENCE
STATE: MT
NW_QUAD_CORNER_XY: 545885.30700 5406800.97900
NE_QUAD_CORNER_XY: 550473.81000 5406840.53200
SE_QUAD_CORNERY_XY: 550536.52000 5399893.03400
SW_QUAD_CORNER_XY: 545942.31500 5399853.46900
SECONDARY_NW_QUAD_XY: 545886.77500 5406581.98300
SECONDARY_NE_QUAD_XY: 550475.42500 5406621.53700
SECONDARY_SE_QUAD_XY: 550538.13500 5399674.04300
SECONDARY_SW_QUAD_XY: 545943.78300 5399634.47700
RMSE_XY: 1.40000
IMAGE_SOURCE: BLACK AND WHITE FILM
SOURCE_IMAGE_ID: NAPP 9177 118
SOURCE_IMAGE_DATE: 1997 09 04
SOURCE_DEM_DATE: 1970 00 00
AGENCY: WESTERN MAPPING CENTER (WMC)
PRODUCER: UNDEFINED
PRODUCTION_SYSTEM: GIS/MAGIC
COMPRESSION: UNDEFINED
STANDARD_VERSION: 1996 12
METADATA_DATE: 2000 11 08
DATA_FILE_SIZE: 40321112
BYTE_COUNT: 5311
