FILENAME: O4811017.SES.1115481.tif
QUADRANGLE_NAME: CHESTER NW
QUADRANT: SE
WEST_LONGITUDE: -110 56 15.00000
EAST_LONGITUDE: -110 52 30.00000
NORTH_LATITUDE: 48 41 15.00000
SOUTH_LATITUDE: 48 37 30.00000
PRODUCTION_DATE: 2000 11 1
RASTER_ORDER: LEFT_RIGHT/TOP_BOTTOM
BAND_ORGANIZATION: SINGLE FILE
BAND_CONTENT: BLACK&WHITE
BAND_CONTENT: UNDEFINED
BAND_CONTENT: UNDEFINED
BITS_PER_PIXEL: 8
SAMPLES_AND_LINES: 5274 7557
HORIZONTAL_DATUM: NAD83
HORIZONTAL_COORDINATE_SYSTEM: UTM
COORDINATE_ZONE: 12
HORIZONTAL_UNITS: METERS
HORIZONTAL_RESOLUTION: 1.00000
SECONDARY_HORIZONTAL_DATUM: NAD27
XY_ORIGIN: 504239.00000 5393026.00000
SECONDARY_XY_ORIGIN: 504298.40000 5392807.73400
NATION: US
NATION: "SCIENCE
STATE: MT
NW_QUAD_CORNER_XY: 504599.93800 5392719.46900
NE_QUAD_CORNER_XY: 509199.87600 5392725.12300
SE_QUAD_CORNERY_XY: 509211.25500 5385777.71300
SW_QUAD_CORNER_XY: 504605.62800 5385772.05800
SECONDARY_NW_QUAD_XY: 504600.08500 5392500.47600
SECONDARY_NE_QUAD_XY: 509200.17000 5392506.13000
SECONDARY_SE_QUAD_XY: 509211.54900 5385558.72600
SECONDARY_SW_QUAD_XY: 504605.77500 5385553.07100
RMSE_XY: 0.90000
IMAGE_SOURCE: BLACK AND WHITE FILM
SOURCE_IMAGE_ID: NAPP 9169 027
SOURCE_IMAGE_DATE: 1997 07 25
SOURCE_DEM_DATE: 1962 00 00
AGENCY: WESTERN MAPPING CENTER (WMC)
PRODUCER: UNDEFINED
PRODUCTION_SYSTEM: GIS/MAGIC
COMPRESSION: UNDEFINED
STANDARD_VERSION: 1996 12
METADATA_DATE: 2000 11 07
DATA_FILE_SIZE: 39860892
BYTE_COUNT: 5274
