FILENAME: O4811019.NWS.1115536.tif
QUADRANGLE_NAME: RUDYARD NW
QUADRANT: NW
WEST_LONGITUDE: -110 45 0.00000
EAST_LONGITUDE: -110 41 15.00000
NORTH_LATITUDE: 48 45 0.00000
SOUTH_LATITUDE: 48 41 15.00000
PRODUCTION_DATE: 2000 11 2
RASTER_ORDER: LEFT_RIGHT/TOP_BOTTOM
BAND_ORGANIZATION: SINGLE FILE
BAND_CONTENT: BLACK&WHITE
BAND_CONTENT: UNDEFINED
BAND_CONTENT: UNDEFINED
BITS_PER_PIXEL: 8
SAMPLES_AND_LINES: 5284 7569
HORIZONTAL_DATUM: NAD83
HORIZONTAL_COORDINATE_SYSTEM: UTM
COORDINATE_ZONE: 12
HORIZONTAL_UNITS: METERS
HORIZONTAL_RESOLUTION: 1.00000
SECONDARY_HORIZONTAL_DATUM: NAD27
XY_ORIGIN: 518017.00000 5400013.00000
SECONDARY_XY_ORIGIN: 518076.32000 5399794.68100
NATION: US
NATION: "SCIENCE
STATE: MT
NW_QUAD_CORNER_XY: 518376.96600 5399695.21600
NE_QUAD_CORNER_XY: 522971.20200 5399712.17100
SE_QUAD_CORNERY_XY: 522999.67800 5392764.69700
SW_QUAD_CORNER_XY: 518399.74600 5392747.73600
SECONDARY_NW_QUAD_XY: 518377.55300 5399476.21900
SECONDARY_NE_QUAD_XY: 522971.93600 5399493.17500
SECONDARY_SE_QUAD_XY: 523000.41200 5392545.70500
SECONDARY_SW_QUAD_XY: 518400.33400 5392528.74400
RMSE_XY: 1.00000
IMAGE_SOURCE: BLACK AND WHITE FILM
SOURCE_IMAGE_ID: NAPP 9167 224
SOURCE_IMAGE_DATE: 1996 08 26
SOURCE_DEM_DATE: 1970 00 00
AGENCY: WESTERN MAPPING CENTER (WMC)
PRODUCER: UNDEFINED
PRODUCTION_SYSTEM: GIS/MAGIC
COMPRESSION: UNDEFINED
STANDARD_VERSION: 1996 12
METADATA_DATE: 2000 11 29
DATA_FILE_SIZE: 39999880
BYTE_COUNT: 5284
