FILENAME: O4811021.SWS.1115051.tif
QUADRANGLE_NAME: GILDFORD NW
QUADRANT: SW
WEST_LONGITUDE: -110 30 0.00000
EAST_LONGITUDE: -110 26 15.00000
NORTH_LATITUDE: 48 41 15.00000
SOUTH_LATITUDE: 48 37 30.00000
PRODUCTION_DATE: 2000 10 13
RASTER_ORDER: LEFT_RIGHT/TOP_BOTTOM
BAND_ORGANIZATION: SINGLE FILE
BAND_CONTENT: BLACK&WHITE
BAND_CONTENT: UNDEFINED
BAND_CONTENT: UNDEFINED
BITS_PER_PIXEL: 8
SAMPLES_AND_LINES: 5312 7584
HORIZONTAL_DATUM: NAD83
HORIZONTAL_COORDINATE_SYSTEM: UTM
COORDINATE_ZONE: 12
HORIZONTAL_UNITS: METERS
HORIZONTAL_RESOLUTION: 1.00000
SECONDARY_HORIZONTAL_DATUM: NAD27
XY_ORIGIN: 536440.00000 5393171.00000
SECONDARY_XY_ORIGIN: 536498.76100 5392952.91000
NATION: US
NATION: "SCIENCE
STATE: MT
NW_QUAD_CORNER_XY: 536799.44800 5392838.19200
NE_QUAD_CORNER_XY: 541399.36100 5392870.22900
SE_QUAD_CORNERY_XY: 541450.56900 5385922.85900
SW_QUAD_CORNER_XY: 536844.96600 5385890.81300
SECONDARY_NW_QUAD_XY: 536800.62300 5392619.20300
SECONDARY_NE_QUAD_XY: 541400.68300 5392651.24100
SECONDARY_SE_QUAD_XY: 541451.89000 5385703.87700
SECONDARY_SW_QUAD_XY: 536846.14000 5385671.83000
RMSE_XY: 1.20000
IMAGE_SOURCE: BLACK AND WHITE FILM
SOURCE_IMAGE_ID: NAPP 9177 223
SOURCE_IMAGE_DATE: 1997 09 04
SOURCE_DEM_DATE: 1968 00 00
AGENCY: WESTERN MAPPING CENTER (WMC)
PRODUCER: UNDEFINED
PRODUCTION_SYSTEM: GIS/MAGIC
COMPRESSION: UNDEFINED
STANDARD_VERSION: 1996 12
METADATA_DATE: 2000 11 08
DATA_FILE_SIZE: 40291520
BYTE_COUNT: 5312
