FILENAME: O4811022.SWS.1115079.tif
QUADRANGLE_NAME: GILDFORD NE
QUADRANT: SW
WEST_LONGITUDE: -110 22 30.00000
EAST_LONGITUDE: -110 18 45.00000
NORTH_LATITUDE: 48 41 15.00000
SOUTH_LATITUDE: 48 37 30.00000
PRODUCTION_DATE: 2000 10 16
RASTER_ORDER: LEFT_RIGHT/TOP_BOTTOM
BAND_ORGANIZATION: SINGLE FILE
BAND_CONTENT: BLACK&WHITE
BAND_CONTENT: UNDEFINED
BAND_CONTENT: UNDEFINED
BITS_PER_PIXEL: 8
SAMPLES_AND_LINES: 5322 7591
HORIZONTAL_DATUM: NAD83
HORIZONTAL_COORDINATE_SYSTEM: UTM
COORDINATE_ZONE: 12
HORIZONTAL_UNITS: METERS
HORIZONTAL_RESOLUTION: 1.00000
SECONDARY_HORIZONTAL_DATUM: NAD27
XY_ORIGIN: 545641.00000 5393246.00000
SECONDARY_XY_ORIGIN: 545699.51600 5393027.87800
NATION: US
NATION: "SCIENCE
STATE: MT
NW_QUAD_CORNER_XY: 545999.26800 5392906.03500
NE_QUAD_CORNER_XY: 550599.16800 5392945.61000
SE_QUAD_CORNERY_XY: 550661.75600 5385998.26100
SW_QUAD_CORNER_XY: 546056.16600 5385958.67500
SECONDARY_NW_QUAD_XY: 546000.73600 5392687.04800
SECONDARY_NE_QUAD_XY: 550600.78300 5392726.62400
SECONDARY_SE_QUAD_XY: 550663.37100 5385779.28100
SECONDARY_SW_QUAD_XY: 546057.63400 5385739.69400
RMSE_XY: 1.00000
IMAGE_SOURCE: BLACK AND WHITE FILM
SOURCE_IMAGE_ID: NAPP 9177 122
SOURCE_IMAGE_DATE: 1997 09 04
SOURCE_DEM_DATE: 1968 00 00
AGENCY: WESTERN MAPPING CENTER (WMC)
PRODUCER: UNDEFINED
PRODUCTION_SYSTEM: GIS/MAGIC
COMPRESSION: UNDEFINED
STANDARD_VERSION: 1996 12
METADATA_DATE: 2000 11 08
DATA_FILE_SIZE: 40404624
BYTE_COUNT: 5322
