FILENAME: O4811022.SES.1115078.tif
QUADRANGLE_NAME: GILDFORD NE
QUADRANT: SE
WEST_LONGITUDE: -110 18 45.00000
EAST_LONGITUDE: -110 15 0.00000
NORTH_LATITUDE: 48 41 15.00000
SOUTH_LATITUDE: 48 37 30.00000
PRODUCTION_DATE: 2000 10 13
RASTER_ORDER: LEFT_RIGHT/TOP_BOTTOM
BAND_ORGANIZATION: SINGLE FILE
BAND_CONTENT: BLACK&WHITE
BAND_CONTENT: UNDEFINED
BAND_CONTENT: UNDEFINED
BITS_PER_PIXEL: 8
SAMPLES_AND_LINES: 5328 7594
HORIZONTAL_DATUM: NAD83
HORIZONTAL_COORDINATE_SYSTEM: UTM
COORDINATE_ZONE: 12
HORIZONTAL_UNITS: METERS
HORIZONTAL_RESOLUTION: 1.00000
SECONDARY_HORIZONTAL_DATUM: NAD27
XY_ORIGIN: 550241.00000 5393289.00000
SECONDARY_XY_ORIGIN: 550299.39400 5393070.86200
NATION: US
NATION: "SCIENCE
STATE: MT
NW_QUAD_CORNER_XY: 550599.16800 5392945.61000
NE_QUAD_CORNER_XY: 555199.06100 5392988.95500
SE_QUAD_CORNERY_XY: 555267.33900 5386041.61800
SW_QUAD_CORNER_XY: 550661.75600 5385998.26100
SECONDARY_NW_QUAD_XY: 550600.78300 5392726.62400
SECONDARY_NE_QUAD_XY: 555200.82300 5392769.97000
SECONDARY_SE_QUAD_XY: 555269.10100 5385822.63900
SECONDARY_SW_QUAD_XY: 550663.37100 5385779.28100
RMSE_XY: 0.70000
IMAGE_SOURCE: BLACK AND WHITE FILM
SOURCE_IMAGE_ID: NAPP 9177 097
SOURCE_IMAGE_DATE: 1997 09 04
SOURCE_DEM_DATE: 1968 00 00
AGENCY: WESTERN MAPPING CENTER (WMC)
PRODUCER: UNDEFINED
PRODUCTION_SYSTEM: GIS/MAGIC
COMPRESSION: UNDEFINED
STANDARD_VERSION: 1996 12
METADATA_DATE: 2000 11 08
DATA_FILE_SIZE: 40466160
BYTE_COUNT: 5328
