FILENAME: O4811025.SWS.1115486.tif
QUADRANGLE_NAME: CHESTER
QUADRANT: SW
WEST_LONGITUDE: -111 0 0.00000
EAST_LONGITUDE: -110 56 15.00000
NORTH_LATITUDE: 48 33 45.00000
SOUTH_LATITUDE: 48 30 0.00000
PRODUCTION_DATE: 2000 11 1
RASTER_ORDER: LEFT_RIGHT/TOP_BOTTOM
BAND_ORGANIZATION: SINGLE FILE
BAND_CONTENT: BLACK&WHITE
BAND_CONTENT: UNDEFINED
BAND_CONTENT: UNDEFINED
BITS_PER_PIXEL: 8
SAMPLES_AND_LINES: 5279 7553
HORIZONTAL_DATUM: NAD83
HORIZONTAL_COORDINATE_SYSTEM: UTM
COORDINATE_ZONE: 12
HORIZONTAL_UNITS: METERS
HORIZONTAL_RESOLUTION: 1.00000
SECONDARY_HORIZONTAL_DATUM: NAD27
XY_ORIGIN: 499639.00000 5379125.00000
SECONDARY_XY_ORIGIN: 499698.54900 5378907.11400
NATION: US
NATION: "SCIENCE
STATE: MT
NW_QUAD_CORNER_XY: 500000.00000 5378822.83700
NE_QUAD_CORNER_XY: 504611.31200 5378824.72200
SE_QUAD_CORNERY_XY: 504616.99100 5371877.46200
SW_QUAD_CORNER_XY: 500000.00000 5371875.57600
SECONDARY_NW_QUAD_XY: 500000.00000 5378603.85700
SECONDARY_NE_QUAD_XY: 504611.45900 5378605.74200
SECONDARY_SE_QUAD_XY: 504617.13700 5371658.49000
SECONDARY_SW_QUAD_XY: 500000.00000 5371656.60400
RMSE_XY: 0.80000
IMAGE_SOURCE: BLACK AND WHITE FILM
SOURCE_IMAGE_ID: NAPP 9169 056
SOURCE_IMAGE_DATE: 1997 07 25
SOURCE_DEM_DATE: 1962 00 00
AGENCY: WESTERN MAPPING CENTER (WMC)
PRODUCER: UNDEFINED
PRODUCTION_SYSTEM: GIS/MAGIC
COMPRESSION: UNDEFINED
STANDARD_VERSION: 1996 12
METADATA_DATE: 2000 11 07
DATA_FILE_SIZE: 39877566
BYTE_COUNT: 5279
