FILENAME: O4811026.SWS.1115514.tif
QUADRANGLE_NAME: JOPLIN
QUADRANT: SW
WEST_LONGITUDE: -110 52 30.00000
EAST_LONGITUDE: -110 48 45.00000
NORTH_LATITUDE: 48 33 45.00000
SOUTH_LATITUDE: 48 30 0.00000
PRODUCTION_DATE: 2000 11 1
RASTER_ORDER: LEFT_RIGHT/TOP_BOTTOM
BAND_ORGANIZATION: SINGLE FILE
BAND_CONTENT: BLACK&WHITE
BAND_CONTENT: UNDEFINED
BAND_CONTENT: UNDEFINED
BITS_PER_PIXEL: 8
SAMPLES_AND_LINES: 5290 7561
HORIZONTAL_DATUM: NAD83
HORIZONTAL_COORDINATE_SYSTEM: UTM
COORDINATE_ZONE: 12
HORIZONTAL_UNITS: METERS
HORIZONTAL_RESOLUTION: 1.00000
SECONDARY_HORIZONTAL_DATUM: NAD27
XY_ORIGIN: 508862.00000 5379140.00000
SECONDARY_XY_ORIGIN: 508921.34400 5378922.19800
NATION: US
NATION: "SCIENCE
STATE: MT
NW_QUAD_CORNER_XY: 509222.62300 5378830.37900
NE_QUAD_CORNER_XY: 513833.93300 5378839.80600
SE_QUAD_CORNERY_XY: 513850.96900 5371892.55000
SW_QUAD_CORNER_XY: 509233.98000 5371883.12000
SECONDARY_NW_QUAD_XY: 509222.91700 5378611.39900
SECONDARY_NE_QUAD_XY: 513834.37400 5378620.82700
SECONDARY_SE_QUAD_XY: 513851.40900 5371673.57800
SECONDARY_SW_QUAD_XY: 509234.27400 5371664.14800
RMSE_XY: 3.60000
IMAGE_SOURCE: BLACK AND WHITE FILM
SOURCE_IMAGE_ID: NAPP 9168 024
SOURCE_IMAGE_DATE: 1996 08 26
SOURCE_IMAGE_ID: NAPP 9168 023
SOURCE_IMAGE_DATE: 1996 08 26
SOURCE_DEM_DATE: 1993 00 00
AGENCY: WESTERN MAPPING CENTER (WMC)
PRODUCER: UNDEFINED
PRODUCTION_SYSTEM: GIS/MAGIC
COMPRESSION: UNDEFINED
STANDARD_VERSION: 1996 12
METADATA_DATE: 2000 11 07
DATA_FILE_SIZE: 40002980
BYTE_COUNT: 5290
