FILENAME: O4811027.NWS.1115520.tif
QUADRANGLE_NAME: INVERNESS
QUADRANT: NW
WEST_LONGITUDE: -110 45 0.00000
EAST_LONGITUDE: -110 41 15.00000
NORTH_LATITUDE: 48 37 30.00000
SOUTH_LATITUDE: 48 33 45.00000
PRODUCTION_DATE: 2000 11 2
RASTER_ORDER: LEFT_RIGHT/TOP_BOTTOM
BAND_ORGANIZATION: SINGLE FILE
BAND_CONTENT: BLACK&WHITE
BAND_CONTENT: UNDEFINED
BAND_CONTENT: UNDEFINED
BITS_PER_PIXEL: 8
SAMPLES_AND_LINES: 5296 7569
HORIZONTAL_DATUM: NAD83
HORIZONTAL_COORDINATE_SYSTEM: UTM
COORDINATE_ZONE: 12
HORIZONTAL_UNITS: METERS
HORIZONTAL_RESOLUTION: 1.00000
SECONDARY_HORIZONTAL_DATUM: NAD27
XY_ORIGIN: 518062.00000 5386118.00000
SECONDARY_XY_ORIGIN: 518121.19000 5385900.07600
NATION: US
NATION: "SCIENCE
STATE: MT
NW_QUAD_CORNER_XY: 518422.50500 5385800.33300
NE_QUAD_CORNER_XY: 523028.12600 5385817.29800
SE_QUAD_CORNERY_XY: 523056.54600 5378869.97400
SW_QUAD_CORNER_XY: 518445.24100 5378853.00500
SECONDARY_NW_QUAD_XY: 518423.09200 5385581.34700
SECONDARY_NE_QUAD_XY: 523028.86000 5385598.31200
SECONDARY_SE_QUAD_XY: 523057.28000 5378650.99600
SECONDARY_SW_QUAD_XY: 518445.82800 5378634.02600
RMSE_XY: 1.80000
IMAGE_SOURCE: BLACK AND WHITE FILM
SOURCE_IMAGE_ID: NAPP 9167 228
SOURCE_IMAGE_DATE: 1996 08 26
SOURCE_DEM_DATE: 1993 00 00
AGENCY: WESTERN MAPPING CENTER (WMC)
PRODUCER: UNDEFINED
PRODUCTION_SYSTEM: GIS/MAGIC
COMPRESSION: UNDEFINED
STANDARD_VERSION: 1996 12
METADATA_DATE: 2000 11 29
DATA_FILE_SIZE: 40090720
BYTE_COUNT: 5296
