FILENAME: O4811028.NWS.1115544.tif
QUADRANGLE_NAME: RUDYARD
QUADRANT: NW
WEST_LONGITUDE: -110 37 30.00000
EAST_LONGITUDE: -110 33 45.00000
NORTH_LATITUDE: 48 37 30.00000
SOUTH_LATITUDE: 48 33 45.00000
PRODUCTION_DATE: 2000 11 2
RASTER_ORDER: LEFT_RIGHT/TOP_BOTTOM
BAND_ORGANIZATION: SINGLE FILE
BAND_CONTENT: BLACK&WHITE
BAND_CONTENT: UNDEFINED
BAND_CONTENT: UNDEFINED
BITS_PER_PIXEL: 8
SAMPLES_AND_LINES: 5307 7576
HORIZONTAL_DATUM: NAD83
HORIZONTAL_COORDINATE_SYSTEM: UTM
COORDINATE_ZONE: 12
HORIZONTAL_UNITS: METERS
HORIZONTAL_RESOLUTION: 1.00000
SECONDARY_HORIZONTAL_DATUM: NAD27
XY_ORIGIN: 527274.00000 5386163.00000
SECONDARY_XY_ORIGIN: 527332.97900 5385945.11800
NATION: US
NATION: "SCIENCE
STATE: MT
NW_QUAD_CORNER_XY: 527633.74400 5385838.03300
NE_QUAD_CORNER_XY: 532239.35700 5385862.53800
SE_QUAD_CORNERY_XY: 532279.14600 5378915.22700
SW_QUAD_CORNER_XY: 527667.84800 5378890.71500
SECONDARY_NW_QUAD_XY: 527634.62400 5385619.04800
SECONDARY_NE_QUAD_XY: 532240.38500 5385643.55400
SECONDARY_SE_QUAD_XY: 532280.17400 5378696.25000
SECONDARY_SW_QUAD_XY: 527668.72900 5378671.73700
RMSE_XY: 2.60000
IMAGE_SOURCE: BLACK AND WHITE FILM
SOURCE_IMAGE_ID: NAPP 9167 131
SOURCE_IMAGE_DATE: 1996 08 26
SOURCE_DEM_DATE: 1993 00 00
AGENCY: WESTERN MAPPING CENTER (WMC)
PRODUCER: UNDEFINED
PRODUCTION_SYSTEM: GIS/MAGIC
COMPRESSION: UNDEFINED
STANDARD_VERSION: 1996 12
METADATA_DATE: 2000 11 07
DATA_FILE_SIZE: 40211139
BYTE_COUNT: 5307
