FILENAME: O4811029.NES.1115052.tif
QUADRANGLE_NAME: HINGHAM
QUADRANT: NE
WEST_LONGITUDE: -110 26 15.00000
EAST_LONGITUDE: -110 22 30.00000
NORTH_LATITUDE: 48 37 30.00000
SOUTH_LATITUDE: 48 33 45.00000
PRODUCTION_DATE: 2000 10 16
RASTER_ORDER: LEFT_RIGHT/TOP_BOTTOM
BAND_ORGANIZATION: SINGLE FILE
BAND_CONTENT: BLACK&WHITE
BAND_CONTENT: UNDEFINED
BAND_CONTENT: UNDEFINED
BITS_PER_PIXEL: 8
SAMPLES_AND_LINES: 5323 7587
HORIZONTAL_DATUM: NAD83
HORIZONTAL_COORDINATE_SYSTEM: UTM
COORDINATE_ZONE: 12
HORIZONTAL_UNITS: METERS
HORIZONTAL_RESOLUTION: 1.00000
SECONDARY_HORIZONTAL_DATUM: NAD27
XY_ORIGIN: 541092.00000 5386259.00000
SECONDARY_XY_ORIGIN: 541150.66700 5386041.15400
NATION: US
NATION: "SCIENCE
STATE: MT
NW_QUAD_CORNER_XY: 541450.56900 5385922.85900
NE_QUAD_CORNER_XY: 546056.16600 5385958.67500
SE_QUAD_CORNERY_XY: 546113.00900 5379011.39000
SW_QUAD_CORNER_XY: 541501.72700 5378975.56400
SECONDARY_NW_QUAD_XY: 541451.89000 5385703.87700
SECONDARY_NE_QUAD_XY: 546057.63400 5385739.69400
SECONDARY_SE_QUAD_XY: 546114.47700 5378792.41600
SECONDARY_SW_QUAD_XY: 541503.04800 5378756.58900
RMSE_XY: 2.30000
IMAGE_SOURCE: BLACK AND WHITE FILM
SOURCE_IMAGE_ID: NAPP 9177 190
SOURCE_IMAGE_DATE: 1997 09 04
SOURCE_IMAGE_ID: NAPP 9177 189
SOURCE_IMAGE_DATE: 1997 09 04
SOURCE_DEM_DATE: 1993 00 00
AGENCY: WESTERN MAPPING CENTER (WMC)
PRODUCER: UNDEFINED
PRODUCTION_SYSTEM: GIS/MAGIC
COMPRESSION: UNDEFINED
STANDARD_VERSION: 1996 12
METADATA_DATE: 2000 11 08
DATA_FILE_SIZE: 40390924
BYTE_COUNT: 5323
