FILENAME: O4811030.NES.1115080.tif
QUADRANGLE_NAME: GILDFORD
QUADRANT: NE
WEST_LONGITUDE: -110 18 45.00000
EAST_LONGITUDE: -110 15 0.00000
NORTH_LATITUDE: 48 37 30.00000
SOUTH_LATITUDE: 48 33 45.00000
PRODUCTION_DATE: 2000 10 13
RASTER_ORDER: LEFT_RIGHT/TOP_BOTTOM
BAND_ORGANIZATION: SINGLE FILE
BAND_CONTENT: BLACK&WHITE
BAND_CONTENT: UNDEFINED
BAND_CONTENT: UNDEFINED
BITS_PER_PIXEL: 8
SAMPLES_AND_LINES: 5334 7595
HORIZONTAL_DATUM: NAD83
HORIZONTAL_COORDINATE_SYSTEM: UTM
COORDINATE_ZONE: 12
HORIZONTAL_UNITS: METERS
HORIZONTAL_RESOLUTION: 1.00000
SECONDARY_HORIZONTAL_DATUM: NAD27
XY_ORIGIN: 550303.00000 5386342.00000
SECONDARY_XY_ORIGIN: 550361.47400 5386124.13300
NATION: US
NATION: "SCIENCE
STATE: MT
NW_QUAD_CORNER_XY: 550661.75600 5385998.26100
NE_QUAD_CORNER_XY: 555267.33900 5386041.61800
SE_QUAD_CORNERY_XY: 555335.55100 5379094.35500
SW_QUAD_CORNER_XY: 550724.28400 5379050.98700
SECONDARY_NW_QUAD_XY: 550663.37100 5385779.28100
SECONDARY_NE_QUAD_XY: 555269.10100 5385822.63900
SECONDARY_SE_QUAD_XY: 555337.31300 5378875.38400
SECONDARY_SW_QUAD_XY: 550725.89800 5378832.01400
RMSE_XY: 1.40000
IMAGE_SOURCE: BLACK AND WHITE FILM
SOURCE_IMAGE_ID: NAPP 9177 095
SOURCE_IMAGE_DATE: 1997 09 04
SOURCE_DEM_DATE: 1993 00 00
AGENCY: WESTERN MAPPING CENTER (WMC)
PRODUCER: UNDEFINED
PRODUCTION_SYSTEM: GIS/MAGIC
COMPRESSION: UNDEFINED
STANDARD_VERSION: 1996 12
METADATA_DATE: 2000 11 08
DATA_FILE_SIZE: 40517064
BYTE_COUNT: 5334
