FILENAME: O4811032.NWS.1115109.tif
QUADRANGLE_NAME: KREMLIN
QUADRANT: NW
WEST_LONGITUDE: -110 7 30.00000
EAST_LONGITUDE: -110 3 45.00000
NORTH_LATITUDE: 48 37 30.00000
SOUTH_LATITUDE: 48 33 45.00000
PRODUCTION_DATE: 2000 10 12
RASTER_ORDER: LEFT_RIGHT/TOP_BOTTOM
BAND_ORGANIZATION: SINGLE FILE
BAND_CONTENT: BLACK&WHITE
BAND_CONTENT: UNDEFINED
BAND_CONTENT: UNDEFINED
BITS_PER_PIXEL: 8
SAMPLES_AND_LINES: 5350 7606
HORIZONTAL_DATUM: NAD83
HORIZONTAL_COORDINATE_SYSTEM: UTM
COORDINATE_ZONE: 12
HORIZONTAL_UNITS: METERS
HORIZONTAL_RESOLUTION: 1.00000
SECONDARY_HORIZONTAL_DATUM: NAD27
XY_ORIGIN: 564121.00000 5386495.00000
SECONDARY_XY_ORIGIN: 564179.49200 5386277.08100
NATION: US
NATION: "SCIENCE
STATE: MT
NW_QUAD_CORNER_XY: 564478.47900 5386139.64200
NE_QUAD_CORNER_XY: 569084.03500 5386194.31100
SE_QUAD_CORNERY_XY: 569169.30300 5379247.09000
SW_QUAD_CORNER_XY: 564558.06100 5379192.40700
SECONDARY_NW_QUAD_XY: 564480.53500 5385920.66700
SECONDARY_NE_QUAD_XY: 569086.23700 5385975.33700
SECONDARY_SE_QUAD_XY: 569171.50500 5379028.12300
SECONDARY_SW_QUAD_XY: 564560.11600 5378973.43800
RMSE_XY: 2.00000
IMAGE_SOURCE: BLACK AND WHITE FILM
SOURCE_IMAGE_ID: NAPP 9178 251
SOURCE_IMAGE_DATE: 1997 09 04
SOURCE_DEM_DATE: 1993 00 00
AGENCY: WESTERN MAPPING CENTER (WMC)
PRODUCER: UNDEFINED
PRODUCTION_SYSTEM: GIS/MAGIC
COMPRESSION: UNDEFINED
STANDARD_VERSION: 1996 12
METADATA_DATE: 2000 11 08
DATA_FILE_SIZE: 40697450
BYTE_COUNT: 5350
