FILENAME: O4811034.SES.1115501.tif
QUADRANGLE_NAME: POVERTY COULEE NE
QUADRANT: SE
WEST_LONGITUDE: -110 48 45.00000
EAST_LONGITUDE: -110 45 0.00000
NORTH_LATITUDE: 48 26 15.00000
SOUTH_LATITUDE: 48 22 30.00000
PRODUCTION_DATE: 2000 11 1
RASTER_ORDER: LEFT_RIGHT/TOP_BOTTOM
BAND_ORGANIZATION: SINGLE FILE
BAND_CONTENT: BLACK&WHITE
BAND_CONTENT: UNDEFINED
BAND_CONTENT: UNDEFINED
BITS_PER_PIXEL: 8
SAMPLES_AND_LINES: 5307 7565
HORIZONTAL_DATUM: NAD83
HORIZONTAL_COORDINATE_SYSTEM: UTM
COORDINATE_ZONE: 12
HORIZONTAL_UNITS: METERS
HORIZONTAL_RESOLUTION: 1.00000
SECONDARY_HORIZONTAL_DATUM: NAD27
XY_ORIGIN: 513508.00000 5365259.00000
SECONDARY_XY_ORIGIN: 513567.14800 5365041.70500
NATION: US
NATION: "SCIENCE
STATE: MT
NW_QUAD_CORNER_XY: 513867.98800 5364945.37000
NE_QUAD_CORNER_XY: 518490.64800 5364958.57600
SE_QUAD_CORNERY_XY: 518513.31800 5358011.47500
SW_QUAD_CORNER_XY: 513884.99000 5357998.26600
SECONDARY_NW_QUAD_XY: 513868.42800 5364726.40700
SECONDARY_NE_QUAD_XY: 518491.23500 5364739.61300
SECONDARY_SE_QUAD_XY: 518513.90500 5357792.52100
SECONDARY_SW_QUAD_XY: 513885.43100 5357779.31200
RMSE_XY: 0.90000
IMAGE_SOURCE: BLACK AND WHITE FILM
SOURCE_IMAGE_ID: NAPP 9167 301
SOURCE_IMAGE_DATE: 1996 08 26
SOURCE_DEM_DATE: 1969 00 00
AGENCY: WESTERN MAPPING CENTER (WMC)
PRODUCER: UNDEFINED
PRODUCTION_SYSTEM: GIS/MAGIC
COMPRESSION: UNDEFINED
STANDARD_VERSION: 1996 12
METADATA_DATE: 2000 11 29
DATA_FILE_SIZE: 40152762
BYTE_COUNT: 5307
