FILENAME: O4811035.SES.1115525.tif
QUADRANGLE_NAME: ROCKY COULEE
QUADRANT: SE
WEST_LONGITUDE: -110 41 15.00000
EAST_LONGITUDE: -110 37 30.00000
NORTH_LATITUDE: 48 26 15.00000
SOUTH_LATITUDE: 48 22 30.00000
PRODUCTION_DATE: 2000 11 2
RASTER_ORDER: LEFT_RIGHT/TOP_BOTTOM
BAND_ORGANIZATION: SINGLE FILE
BAND_CONTENT: BLACK&WHITE
BAND_CONTENT: UNDEFINED
BAND_CONTENT: UNDEFINED
BITS_PER_PIXEL: 8
SAMPLES_AND_LINES: 5317 7573
HORIZONTAL_DATUM: NAD83
HORIZONTAL_COORDINATE_SYSTEM: UTM
COORDINATE_ZONE: 12
HORIZONTAL_UNITS: METERS
HORIZONTAL_RESOLUTION: 1.00000
SECONDARY_HORIZONTAL_DATUM: NAD27
XY_ORIGIN: 522754.00000 5365297.00000
SECONDARY_XY_ORIGIN: 522812.94700 5365079.80400
NATION: US
NATION: "SCIENCE
STATE: MT
NW_QUAD_CORNER_XY: 523113.30500 5364975.55400
NE_QUAD_CORNER_XY: 527735.95800 5364996.30600
SE_QUAD_CORNERY_XY: 527769.96400 5358049.21500
SW_QUAD_CORNER_XY: 523141.64200 5358028.45800
SECONDARY_NW_QUAD_XY: 523114.03900 5364756.59200
SECONDARY_NE_QUAD_XY: 527736.83900 5364777.34400
SECONDARY_SE_QUAD_XY: 527770.84400 5357830.26200
SECONDARY_SW_QUAD_XY: 523142.37600 5357809.50500
RMSE_XY: 0.90000
IMAGE_SOURCE: BLACK AND WHITE FILM
SOURCE_IMAGE_ID: NAPP 9167 194
SOURCE_IMAGE_DATE: 1996 08 26
SOURCE_DEM_DATE: 1969 00 00
AGENCY: WESTERN MAPPING CENTER (WMC)
PRODUCER: UNDEFINED
PRODUCTION_SYSTEM: GIS/MAGIC
COMPRESSION: UNDEFINED
STANDARD_VERSION: 1996 12
METADATA_DATE: 2000 11 29
DATA_FILE_SIZE: 40270958
BYTE_COUNT: 5317
