FILENAME: O4811035.NWS.1115524.tif
QUADRANGLE_NAME: ROCKY COULEE
QUADRANT: NW
WEST_LONGITUDE: -110 45 0.00000
EAST_LONGITUDE: -110 41 15.00000
NORTH_LATITUDE: 48 30 0.00000
SOUTH_LATITUDE: 48 26 15.00000
PRODUCTION_DATE: 2000 11 2
RASTER_ORDER: LEFT_RIGHT/TOP_BOTTOM
BAND_ORGANIZATION: SINGLE FILE
BAND_CONTENT: BLACK&WHITE
BAND_CONTENT: UNDEFINED
BAND_CONTENT: UNDEFINED
BITS_PER_PIXEL: 8
SAMPLES_AND_LINES: 5307 7569
HORIZONTAL_DATUM: NAD83
HORIZONTAL_COORDINATE_SYSTEM: UTM
COORDINATE_ZONE: 12
HORIZONTAL_UNITS: METERS
HORIZONTAL_RESOLUTION: 1.00000
SECONDARY_HORIZONTAL_DATUM: NAD27
XY_ORIGIN: 518108.00000 5372223.00000
SECONDARY_XY_ORIGIN: 518167.05900 5372005.47600
NATION: US
NATION: "SCIENCE
STATE: MT
NW_QUAD_CORNER_XY: 518467.95500 5371905.75200
NE_QUAD_CORNER_XY: 523084.93900 5371922.72700
SE_QUAD_CORNERY_XY: 523113.30500 5364975.55400
SW_QUAD_CORNER_XY: 518490.64800 5364958.57600
SECONDARY_NW_QUAD_XY: 518468.54300 5371686.78100
SECONDARY_NE_QUAD_XY: 523085.67300 5371703.75600
SECONDARY_SE_QUAD_XY: 523114.03900 5364756.59200
SECONDARY_SW_QUAD_XY: 518491.23500 5364739.61300
RMSE_XY: 1.30000
IMAGE_SOURCE: BLACK AND WHITE FILM
SOURCE_IMAGE_ID: NAPP 9167 232
SOURCE_IMAGE_DATE: 1996 08 26
SOURCE_DEM_DATE: 1969 00 00
AGENCY: WESTERN MAPPING CENTER (WMC)
PRODUCER: UNDEFINED
PRODUCTION_SYSTEM: GIS/MAGIC
COMPRESSION: UNDEFINED
STANDARD_VERSION: 1996 12
METADATA_DATE: 2000 11 29
DATA_FILE_SIZE: 40173990
BYTE_COUNT: 5307
