FILENAME: O4811036.NES.1115547.tif
QUADRANGLE_NAME: EEN SCHOOL
QUADRANT: NE
WEST_LONGITUDE: -110 33 45.00000
EAST_LONGITUDE: -110 30 0.00000
NORTH_LATITUDE: 48 30 0.00000
SOUTH_LATITUDE: 48 26 15.00000
PRODUCTION_DATE: 2000 11 2
RASTER_ORDER: LEFT_RIGHT/TOP_BOTTOM
BAND_ORGANIZATION: SINGLE FILE
BAND_CONTENT: BLACK&WHITE
BAND_CONTENT: UNDEFINED
BAND_CONTENT: UNDEFINED
BITS_PER_PIXEL: 8
SAMPLES_AND_LINES: 5323 7581
HORIZONTAL_DATUM: NAD83
HORIZONTAL_COORDINATE_SYSTEM: UTM
COORDINATE_ZONE: 12
HORIZONTAL_UNITS: METERS
HORIZONTAL_RESOLUTION: 1.00000
SECONDARY_HORIZONTAL_DATUM: NAD27
XY_ORIGIN: 531960.00000 5372297.00000
SECONDARY_XY_ORIGIN: 532018.84800 5372079.62300
NATION: US
NATION: "SCIENCE
STATE: MT
NW_QUAD_CORNER_XY: 532318.89700 5371967.99100
NE_QUAD_CORNER_XY: 536935.86900 5371996.28200
SE_QUAD_CORNERY_XY: 536981.25400 5365049.12900
SW_QUAD_CORNER_XY: 532358.60800 5365020.83100
SECONDARY_NW_QUAD_XY: 532319.92400 5371749.02200
SECONDARY_NE_QUAD_XY: 536937.04300 5371777.31300
SECONDARY_SE_QUAD_XY: 536982.42800 5364830.16900
SECONDARY_SW_QUAD_XY: 532359.63600 5364801.87000
RMSE_XY: 1.00000
IMAGE_SOURCE: BLACK AND WHITE FILM
SOURCE_IMAGE_ID: NAPP 9167 098
SOURCE_IMAGE_DATE: 1996 08 26
SOURCE_DEM_DATE: 1969 00 00
AGENCY: WESTERN MAPPING CENTER (WMC)
PRODUCER: UNDEFINED
PRODUCTION_SYSTEM: GIS/MAGIC
COMPRESSION: UNDEFINED
STANDARD_VERSION: 1996 12
METADATA_DATE: 2000 11 07
DATA_FILE_SIZE: 40358986
BYTE_COUNT: 5323
