FILENAME: O4811037.SWS.1115059.tif
QUADRANGLE_NAME: FOURTEENMILE COULEE NW
QUADRANT: SW
WEST_LONGITUDE: -110 30 0.00000
EAST_LONGITUDE: -110 26 15.00000
NORTH_LATITUDE: 48 26 15.00000
SOUTH_LATITUDE: 48 22 30.00000
PRODUCTION_DATE: 1993 9 22
RASTER_ORDER: LEFT_RIGHT/TOP_BOTTOM
BAND_ORGANIZATION: SINGLE FILE
BAND_CONTENT: BLACK&WHITE
BAND_CONTENT: UNDEFINED
BAND_CONTENT: UNDEFINED
BITS_PER_PIXEL: 8
SAMPLES_AND_LINES: 5334 7585
HORIZONTAL_DATUM: NAD83
HORIZONTAL_COORDINATE_SYSTEM: UTM
COORDINATE_ZONE: 12
HORIZONTAL_UNITS: METERS
HORIZONTAL_RESOLUTION: 1.00000
SECONDARY_HORIZONTAL_DATUM: NAD27
XY_ORIGIN: 536622.00000 5365382.00000
SECONDARY_XY_ORIGIN: 536680.75800 5365164.94400
NATION: US
NATION: "SCIENCE
STATE: MT
NW_QUAD_CORNER_XY: 536981.25400 5365049.12900
NE_QUAD_CORNER_XY: 541603.89400 5365081.20000
SE_QUAD_CORNERY_XY: 541654.90200 5358134.13100
SW_QUAD_CORNER_XY: 537026.59400 5358102.05100
SECONDARY_NW_QUAD_XY: 536982.42800 5364830.16900
SECONDARY_NE_QUAD_XY: 541605.21500 5364862.24100
SECONDARY_SE_QUAD_XY: 541656.22300 5357915.18100
SECONDARY_SW_QUAD_XY: 537027.76800 5357883.10000
RMSE_XY: 10.00000
IMAGE_SOURCE: BLACK AND WHITE FILM
SOURCE_IMAGE_ID: NAPP 9177 231
SOURCE_IMAGE_DATE: 1997 09 04
SOURCE_DEM_DATE: 1968 00 00
AGENCY: WESTERN MAPPING CENTER (WMC)
PRODUCER: UNDEFINED
PRODUCTION_SYSTEM: GIS/MAGIC
COMPRESSION: UNDEFINED
STANDARD_VERSION: 1996 12
METADATA_DATE: 2000 11 08
DATA_FILE_SIZE: 40463724
BYTE_COUNT: 5334
