FILENAME: O4811037.NES.1115056.tif
QUADRANGLE_NAME: FOURTEENMILE COULEE NW
QUADRANT: NE
WEST_LONGITUDE: -110 26 15.00000
EAST_LONGITUDE: -110 22 30.00000
NORTH_LATITUDE: 48 30 0.00000
SOUTH_LATITUDE: 48 26 15.00000
PRODUCTION_DATE: 2000 10 13
RASTER_ORDER: LEFT_RIGHT/TOP_BOTTOM
BAND_ORGANIZATION: SINGLE FILE
BAND_CONTENT: BLACK&WHITE
BAND_CONTENT: UNDEFINED
BAND_CONTENT: UNDEFINED
BITS_PER_PIXEL: 8
SAMPLES_AND_LINES: 5334 7588
HORIZONTAL_DATUM: NAD83
HORIZONTAL_COORDINATE_SYSTEM: UTM
COORDINATE_ZONE: 12
HORIZONTAL_UNITS: METERS
HORIZONTAL_RESOLUTION: 1.00000
SECONDARY_HORIZONTAL_DATUM: NAD27
XY_ORIGIN: 541194.00000 5372365.00000
SECONDARY_XY_ORIGIN: 541252.73000 5372147.67500
NATION: US
NATION: "SCIENCE
STATE: MT
NW_QUAD_CORNER_XY: 541552.83500 5372028.34500
NE_QUAD_CORNER_XY: 546169.79600 5372064.18000
SE_QUAD_CORNERY_XY: 546226.52800 5365117.04500
SW_QUAD_CORNER_XY: 541603.89400 5365081.20000
SECONDARY_NW_QUAD_XY: 541554.15600 5371809.37700
SECONDARY_NE_QUAD_XY: 546171.26400 5371845.21300
SECONDARY_SE_QUAD_XY: 546227.99600 5364898.08700
SECONDARY_SW_QUAD_XY: 541605.21500 5364862.24100
RMSE_XY: 0.70000
IMAGE_SOURCE: BLACK AND WHITE FILM
SOURCE_IMAGE_ID: NAPP 9177 186
SOURCE_IMAGE_DATE: 1997 09 04
SOURCE_DEM_DATE: 1968 00 00
AGENCY: WESTERN MAPPING CENTER (WMC)
PRODUCER: UNDEFINED
PRODUCTION_SYSTEM: GIS/MAGIC
COMPRESSION: UNDEFINED
STANDARD_VERSION: 1996 12
METADATA_DATE: 2000 11 08
DATA_FILE_SIZE: 40479726
BYTE_COUNT: 5334
