FILENAME: O4811039.SWS.1115095.tif
QUADRANGLE_NAME: BOX ELDER NW
QUADRANT: SW
WEST_LONGITUDE: -110 15 0.00000
EAST_LONGITUDE: -110 11 15.00000
NORTH_LATITUDE: 48 26 15.00000
SOUTH_LATITUDE: 48 22 30.00000
PRODUCTION_DATE: 2000 10 13
RASTER_ORDER: LEFT_RIGHT/TOP_BOTTOM
BAND_ORGANIZATION: SINGLE FILE
BAND_CONTENT: BLACK&WHITE
BAND_CONTENT: UNDEFINED
BAND_CONTENT: UNDEFINED
BITS_PER_PIXEL: 8
SAMPLES_AND_LINES: 5357 7600
HORIZONTAL_DATUM: NAD83
HORIZONTAL_COORDINATE_SYSTEM: UTM
COORDINATE_ZONE: 12
HORIZONTAL_UNITS: METERS
HORIZONTAL_RESOLUTION: 1.00000
SECONDARY_HORIZONTAL_DATUM: NAD27
XY_ORIGIN: 555113.00000 5365548.00000
SECONDARY_XY_ORIGIN: 555171.62900 5365330.96300
NATION: US
NATION: "SCIENCE
STATE: MT
NW_QUAD_CORNER_XY: 555471.77600 5365200.05400
NE_QUAD_CORNER_XY: 560094.38900 5365247.21900
SE_QUAD_CORNERY_XY: 560168.07000 5358300.19200
SW_QUAD_CORNER_XY: 555539.78900 5358253.01500
SECONDARY_NW_QUAD_XY: 555473.53700 5364981.09800
SECONDARY_NE_QUAD_XY: 560096.29700 5365028.26500
SECONDARY_SE_QUAD_XY: 560169.97800 5358081.24700
SECONDARY_SW_QUAD_XY: 555541.55000 5358034.06900
RMSE_XY: 1.30000
IMAGE_SOURCE: BLACK AND WHITE FILM
SOURCE_IMAGE_ID: NAPP 9177 030
SOURCE_IMAGE_DATE: 1997 09 04
SOURCE_DEM_DATE: 1968 00 00
AGENCY: WESTERN MAPPING CENTER (WMC)
PRODUCER: UNDEFINED
PRODUCTION_SYSTEM: GIS/MAGIC
COMPRESSION: UNDEFINED
STANDARD_VERSION: 1996 12
METADATA_DATE: 2000 11 29
DATA_FILE_SIZE: 40718557
BYTE_COUNT: 5357
