FILENAME: O4811040.SES.1115114.tif
QUADRANGLE_NAME: BAILEY RESERVOIR
QUADRANT: SE
WEST_LONGITUDE: -110 3 45.00000
EAST_LONGITUDE: -110 0 0.00000
NORTH_LATITUDE: 48 26 15.00000
SOUTH_LATITUDE: 48 22 30.00000
PRODUCTION_DATE: 2000 10 12
RASTER_ORDER: LEFT_RIGHT/TOP_BOTTOM
BAND_ORGANIZATION: SINGLE FILE
BAND_CONTENT: BLACK&WHITE
BAND_CONTENT: UNDEFINED
BAND_CONTENT: UNDEFINED
BITS_PER_PIXEL: 8
SAMPLES_AND_LINES: 5373 7611
HORIZONTAL_DATUM: NAD83
HORIZONTAL_COORDINATE_SYSTEM: UTM
COORDINATE_ZONE: 12
HORIZONTAL_UNITS: METERS
HORIZONTAL_RESOLUTION: 1.00000
SECONDARY_HORIZONTAL_DATUM: NAD27
XY_ORIGIN: 568981.00000 5365712.00000
SECONDARY_XY_ORIGIN: 569039.80100 5365494.82400
NATION: US
NATION: "SCIENCE
STATE: MT
NW_QUAD_CORNER_XY: 569339.58800 5365352.86900
NE_QUAD_CORNER_XY: 573962.17300 5365411.35500
SE_QUAD_CORNERY_XY: 574052.86000 5358464.37100
SW_QUAD_CORNER_XY: 569424.60600 5358405.87000
SECONDARY_NW_QUAD_XY: 569341.79000 5365133.91900
SECONDARY_NE_QUAD_XY: 573964.52200 5365192.40700
SECONDARY_SE_QUAD_XY: 574055.20900 5358245.43200
SECONDARY_SW_QUAD_XY: 569426.80800 5358186.92900
RMSE_XY: 1.90000
IMAGE_SOURCE: BLACK AND WHITE FILM
SOURCE_IMAGE_ID: NAPP 9178 216
SOURCE_IMAGE_DATE: 1997 09 04
SOURCE_DEM_DATE: 1968 00 00
AGENCY: WESTERN MAPPING CENTER (WMC)
PRODUCER: UNDEFINED
PRODUCTION_SYSTEM: GIS/MAGIC
COMPRESSION: UNDEFINED
STANDARD_VERSION: 1996 12
METADATA_DATE: 2000 11 08
DATA_FILE_SIZE: 40899276
BYTE_COUNT: 5373
