FILENAME: O4811042.SWS.1080807.tif
QUADRANGLE_NAME: POVERTY COULEE SE
QUADRANT: SW
WEST_LONGITUDE: -110 52 30.00000
EAST_LONGITUDE: -110 48 45.00000
NORTH_LATITUDE: 48 18 45.00000
SOUTH_LATITUDE: 48 15 0.00000
PRODUCTION_DATE: 2000 6 7
RASTER_ORDER: LEFT_RIGHT/TOP_BOTTOM
BAND_ORGANIZATION: SINGLE FILE
BAND_CONTENT: BLACK&WHITE
BAND_CONTENT: UNDEFINED
BAND_CONTENT: UNDEFINED
BITS_PER_PIXEL: 8
SAMPLES_AND_LINES: 5312 7562
HORIZONTAL_DATUM: NAD83
HORIZONTAL_COORDINATE_SYSTEM: UTM
COORDINATE_ZONE: 12
HORIZONTAL_UNITS: METERS
HORIZONTAL_RESOLUTION: 1.00000
SECONDARY_HORIZONTAL_DATUM: NAD27
XY_ORIGIN: 508908.00000 5351352.00000
SECONDARY_XY_ORIGIN: 508967.17800 5351135.17400
NATION: US
NATION: "SCIENCE
STATE: MT
NW_QUAD_CORNER_XY: 509267.98500 5351041.80000
NE_QUAD_CORNER_XY: 513901.97600 5351051.23700
SE_QUAD_CORNERY_XY: 513918.94500 5344104.28400
SW_QUAD_CORNER_XY: 509279.29800 5344094.84500
SECONDARY_NW_QUAD_XY: 509268.27900 5350822.85600
SECONDARY_NE_QUAD_XY: 513902.41600 5350832.29300
SECONDARY_SE_QUAD_XY: 513919.38500 5343885.35200
SECONDARY_SW_QUAD_XY: 509279.59100 5343875.91200
RMSE_XY: 1.10000
IMAGE_SOURCE: BLACK AND WHITE FILM
SOURCE_IMAGE_ID: NAPP 9168 032
SOURCE_IMAGE_DATE: 1996 08 26
SOURCE_IMAGE_ID: NAPP 9168 034
SOURCE_IMAGE_DATE: 1996 08 26
SOURCE_IMAGE_ID: NAPP 9167 297
SOURCE_IMAGE_DATE: 1996 08 26
SOURCE_DEM_DATE: 1969 00 00
AGENCY: WESTERN MAPPING CENTER (WMC)
PRODUCER: UNDEFINED
PRODUCTION_SYSTEM: GIS/MAGIC
COMPRESSION: UNDEFINED
STANDARD_VERSION: 1996 12
METADATA_DATE: 2000 06 13
DATA_FILE_SIZE: 40174656
BYTE_COUNT: 5312
