FILENAME: O4811043.NWS.1080848.tif
QUADRANGLE_NAME: ROCKY COULEE SW
QUADRANT: NW
WEST_LONGITUDE: -110 45 0.00000
EAST_LONGITUDE: -110 41 15.00000
NORTH_LATITUDE: 48 22 30.00000
SOUTH_LATITUDE: 48 18 45.00000
PRODUCTION_DATE: 2000 6 7
RASTER_ORDER: LEFT_RIGHT/TOP_BOTTOM
BAND_ORGANIZATION: SINGLE FILE
BAND_CONTENT: BLACK&WHITE
BAND_CONTENT: UNDEFINED
BAND_CONTENT: UNDEFINED
BITS_PER_PIXEL: 8
SAMPLES_AND_LINES: 5318 7569
HORIZONTAL_DATUM: NAD83
HORIZONTAL_COORDINATE_SYSTEM: UTM
COORDINATE_ZONE: 12
HORIZONTAL_UNITS: METERS
HORIZONTAL_RESOLUTION: 1.00000
SECONDARY_HORIZONTAL_DATUM: NAD27
XY_ORIGIN: 518153.00000 5358329.00000
SECONDARY_XY_ORIGIN: 518211.95900 5358112.04000
NATION: US
NATION: "SCIENCE
STATE: MT
NW_QUAD_CORNER_XY: 518513.31800 5358011.47500
NE_QUAD_CORNER_XY: 523141.64200 5358028.45800
SE_QUAD_CORNERY_XY: 523169.95200 5351081.43700
SW_QUAD_CORNER_XY: 518535.96500 5351064.45000
SECONDARY_NW_QUAD_XY: 518513.90500 5357792.52100
SECONDARY_NE_QUAD_XY: 523142.37600 5357809.50500
SECONDARY_SE_QUAD_XY: 523170.68600 5350862.49400
SECONDARY_SW_QUAD_XY: 518536.55200 5350845.50600
RMSE_XY: 1.60000
IMAGE_SOURCE: BLACK AND WHITE FILM
SOURCE_IMAGE_ID: NAPP 9167 192
SOURCE_IMAGE_DATE: 1996 08 26
SOURCE_IMAGE_ID: NAPP 9167 299
SOURCE_IMAGE_DATE: 1996 08 26
SOURCE_IMAGE_ID: NAPP 9167 238
SOURCE_IMAGE_DATE: 1996 08 26
SOURCE_IMAGE_ID: NAPP 9167 237
SOURCE_IMAGE_DATE: 1996 08 26
SOURCE_IMAGE_ID: NAPP 9167 235
SOURCE_IMAGE_DATE: 1996 08 26
SOURCE_DEM_DATE: 1969 00 00
AGENCY: WESTERN MAPPING CENTER (WMC)
PRODUCER: UNDEFINED
PRODUCTION_SYSTEM: GIS/MAGIC
COMPRESSION: UNDEFINED
STANDARD_VERSION: 1996 12
METADATA_DATE: 2000 06 13
DATA_FILE_SIZE: 40257260
BYTE_COUNT: 5318
