FILENAME: O4811043.NES.1080847.tif
QUADRANGLE_NAME: ROCKY COULEE SW
QUADRANT: NE
WEST_LONGITUDE: -110 41 15.00000
EAST_LONGITUDE: -110 37 30.00000
NORTH_LATITUDE: 48 22 30.00000
SOUTH_LATITUDE: 48 18 45.00000
PRODUCTION_DATE: 2000 6 7
RASTER_ORDER: LEFT_RIGHT/TOP_BOTTOM
BAND_ORGANIZATION: SINGLE FILE
BAND_CONTENT: BLACK&WHITE
BAND_CONTENT: UNDEFINED
BAND_CONTENT: UNDEFINED
BITS_PER_PIXEL: 8
SAMPLES_AND_LINES: 5323 7573
HORIZONTAL_DATUM: NAD83
HORIZONTAL_COORDINATE_SYSTEM: UTM
COORDINATE_ZONE: 12
HORIZONTAL_UNITS: METERS
HORIZONTAL_RESOLUTION: 1.00000
SECONDARY_HORIZONTAL_DATUM: NAD27
XY_ORIGIN: 522782.00000 5358350.00000
SECONDARY_XY_ORIGIN: 522840.90500 5358133.08400
NATION: US
NATION: "SCIENCE
STATE: MT
NW_QUAD_CORNER_XY: 523141.64200 5358028.45800
NE_QUAD_CORNER_XY: 527769.96400 5358049.21500
SE_QUAD_CORNERY_XY: 527803.93500 5351102.19900
SW_QUAD_CORNER_XY: 523169.95200 5351081.43700
SECONDARY_NW_QUAD_XY: 523142.37600 5357809.50500
SECONDARY_NE_QUAD_XY: 527770.84400 5357830.26200
SECONDARY_SE_QUAD_XY: 527804.81600 5350883.25700
SECONDARY_SW_QUAD_XY: 523170.68600 5350862.49400
RMSE_XY: 1.10000
IMAGE_SOURCE: BLACK AND WHITE FILM
SOURCE_IMAGE_ID: NAPP 9167 192
SOURCE_IMAGE_DATE: 1996 08 26
SOURCE_IMAGE_ID: NAPP 9167 236
SOURCE_IMAGE_DATE: 1996 08 26
SOURCE_IMAGE_ID: NAPP 9167 190
SOURCE_IMAGE_DATE: 1996 08 26
SOURCE_IMAGE_ID: NAPP 9167 139
SOURCE_IMAGE_DATE: 1996 08 26
SOURCE_DEM_DATE: 1969 00 00
AGENCY: WESTERN MAPPING CENTER (WMC)
PRODUCER: UNDEFINED
PRODUCTION_SYSTEM: GIS/MAGIC
COMPRESSION: UNDEFINED
STANDARD_VERSION: 1996 12
METADATA_DATE: 2000 06 13
DATA_FILE_SIZE: 40316402
BYTE_COUNT: 5323
