FILENAME: O4811044.SWS.1080854.tif
QUADRANGLE_NAME: ROCKY COULEE SE
QUADRANT: SW
WEST_LONGITUDE: -110 37 30.00000
EAST_LONGITUDE: -110 33 45.00000
NORTH_LATITUDE: 48 18 45.00000
SOUTH_LATITUDE: 48 15 0.00000
PRODUCTION_DATE: 2000 6 9
RASTER_ORDER: LEFT_RIGHT/TOP_BOTTOM
BAND_ORGANIZATION: SINGLE FILE
BAND_CONTENT: BLACK&WHITE
BAND_CONTENT: UNDEFINED
BAND_CONTENT: UNDEFINED
BITS_PER_PIXEL: 8
SAMPLES_AND_LINES: 5335 7577
HORIZONTAL_DATUM: NAD83
HORIZONTAL_COORDINATE_SYSTEM: UTM
COORDINATE_ZONE: 12
HORIZONTAL_UNITS: METERS
HORIZONTAL_RESOLUTION: 1.00000
SECONDARY_HORIZONTAL_DATUM: NAD27
XY_ORIGIN: 527444.00000 5351427.00000
SECONDARY_XY_ORIGIN: 527502.81800 5351210.40500
NATION: US
NATION: "SCIENCE
STATE: MT
NW_QUAD_CORNER_XY: 527803.93500 5351102.19900
NE_QUAD_CORNER_XY: 532437.91500 5351126.73600
SE_QUAD_CORNERY_XY: 532477.51000 5344179.80200
SW_QUAD_CORNER_XY: 527837.87400 5344155.25900
SECONDARY_NW_QUAD_XY: 527804.81600 5350883.25700
SECONDARY_NE_QUAD_XY: 532438.94200 5350907.79500
SECONDARY_SE_QUAD_XY: 532478.53700 5343960.87200
SECONDARY_SW_QUAD_XY: 527838.75400 5343936.32800
RMSE_XY: 1.00000
IMAGE_SOURCE: BLACK AND WHITE FILM
SOURCE_IMAGE_ID: NAPP 9167 092
SOURCE_IMAGE_DATE: 1996 08 26
SOURCE_IMAGE_ID: NAPP 9167 190
SOURCE_IMAGE_DATE: 1996 08 26
SOURCE_IMAGE_ID: NAPP 9167 142
SOURCE_IMAGE_DATE: 1996 08 26
SOURCE_IMAGE_ID: NAPP 9167 140
SOURCE_IMAGE_DATE: 1996 08 26
SOURCE_IMAGE_ID: NAPP 9167 139
SOURCE_IMAGE_DATE: 1996 08 26
SOURCE_DEM_DATE: 1969 00 00
AGENCY: WESTERN MAPPING CENTER (WMC)
PRODUCER: UNDEFINED
PRODUCTION_SYSTEM: GIS/MAGIC
COMPRESSION: UNDEFINED
STANDARD_VERSION: 1996 12
METADATA_DATE: 2000 06 13
DATA_FILE_SIZE: 40428630
BYTE_COUNT: 5335
