FILENAME: O4811044.SES.1080853.tif
QUADRANGLE_NAME: ROCKY COULEE SE
QUADRANT: SE
WEST_LONGITUDE: -110 33 45.00000
EAST_LONGITUDE: -110 30 0.00000
NORTH_LATITUDE: 48 18 45.00000
SOUTH_LATITUDE: 48 15 0.00000
PRODUCTION_DATE: 2000 6 9
RASTER_ORDER: LEFT_RIGHT/TOP_BOTTOM
BAND_ORGANIZATION: SINGLE FILE
BAND_CONTENT: BLACK&WHITE
BAND_CONTENT: UNDEFINED
BAND_CONTENT: UNDEFINED
BITS_PER_PIXEL: 8
SAMPLES_AND_LINES: 5340 7581
HORIZONTAL_DATUM: NAD83
HORIZONTAL_COORDINATE_SYSTEM: UTM
COORDINATE_ZONE: 12
HORIZONTAL_UNITS: METERS
HORIZONTAL_RESOLUTION: 1.00000
SECONDARY_HORIZONTAL_DATUM: NAD27
XY_ORIGIN: 532079.00000 5351456.00000
SECONDARY_XY_ORIGIN: 532137.77300 5351239.44600
NATION: US
NATION: "SCIENCE
STATE: MT
NW_QUAD_CORNER_XY: 532437.91500 5351126.73600
NE_QUAD_CORNER_XY: 537071.89000 5351155.04900
SE_QUAD_CORNERY_XY: 537117.14200 5344208.12200
SW_QUAD_CORNER_XY: 532477.51000 5344179.80200
SECONDARY_NW_QUAD_XY: 532438.94200 5350907.79500
SECONDARY_NE_QUAD_XY: 537073.06400 5350936.10800
SECONDARY_SE_QUAD_XY: 537118.31600 5343989.19200
SECONDARY_SW_QUAD_XY: 532478.53700 5343960.87200
RMSE_XY: 0.90000
IMAGE_SOURCE: BLACK AND WHITE FILM
SOURCE_IMAGE_ID: NAPP 9177 236
SOURCE_IMAGE_DATE: 1997 09 04
SOURCE_IMAGE_ID: NAPP 9167 142
SOURCE_IMAGE_DATE: 1996 08 26
SOURCE_IMAGE_ID: NAPP 9167 090
SOURCE_IMAGE_DATE: 1996 08 26
SOURCE_IMAGE_ID: NAPP 9167 091
SOURCE_IMAGE_DATE: 1996 08 26
SOURCE_IMAGE_ID: NAPP 9167 093
SOURCE_IMAGE_DATE: 1996 08 26
SOURCE_DEM_DATE: 1969 00 00
AGENCY: WESTERN MAPPING CENTER (WMC)
PRODUCER: UNDEFINED
PRODUCTION_SYSTEM: GIS/MAGIC
COMPRESSION: UNDEFINED
STANDARD_VERSION: 1996 12
METADATA_DATE: 2000 06 13
DATA_FILE_SIZE: 40487880
BYTE_COUNT: 5340
