FILENAME: O4811048.SWS.1115119.tif
QUADRANGLE_NAME: BOX ELDER
QUADRANT: SW
WEST_LONGITUDE: -110 7 30.00000
EAST_LONGITUDE: -110 3 45.00000
NORTH_LATITUDE: 48 18 45.00000
SOUTH_LATITUDE: 48 15 0.00000
PRODUCTION_DATE: 2000 10 12
RASTER_ORDER: LEFT_RIGHT/TOP_BOTTOM
BAND_ORGANIZATION: SINGLE FILE
BAND_CONTENT: BLACK&WHITE
BAND_CONTENT: UNDEFINED
BAND_CONTENT: UNDEFINED
BITS_PER_PIXEL: 8
SAMPLES_AND_LINES: 5379 7607
HORIZONTAL_DATUM: NAD83
HORIZONTAL_COORDINATE_SYSTEM: UTM
COORDINATE_ZONE: 12
HORIZONTAL_UNITS: METERS
HORIZONTAL_RESOLUTION: 1.00000
SECONDARY_HORIZONTAL_DATUM: NAD27
XY_ORIGIN: 564517.00000 5351759.00000
SECONDARY_XY_ORIGIN: 564575.79700 5351542.42300
NATION: US
NATION: "SCIENCE
STATE: MT
NW_QUAD_CORNER_XY: 564875.61400 5351404.20400
NE_QUAD_CORNER_XY: 569509.54100 5351458.94400
SE_QUAD_CORNERY_XY: 569594.39200 5344512.09200
SW_QUAD_CORNER_XY: 564954.80800 5344457.33800
SECONDARY_NW_QUAD_XY: 564877.66900 5351185.27100
SECONDARY_NE_QUAD_XY: 569511.74200 5351240.01300
SECONDARY_SE_QUAD_XY: 569596.59400 5344293.17200
SECONDARY_SW_QUAD_XY: 564956.86300 5344238.41700
RMSE_XY: 1.00000
IMAGE_SOURCE: BLACK AND WHITE FILM
SOURCE_IMAGE_ID: NAPP 9178 261
SOURCE_IMAGE_DATE: 1997 09 04
SOURCE_DEM_DATE: 1968 00 00
AGENCY: WESTERN MAPPING CENTER (WMC)
PRODUCER: UNDEFINED
PRODUCTION_SYSTEM: GIS/MAGIC
COMPRESSION: UNDEFINED
STANDARD_VERSION: 1996 12
METADATA_DATE: 2000 11 08
DATA_FILE_SIZE: 40923432
BYTE_COUNT: 5379
