FILENAME: O4811050.SWS.1080821.tif
QUADRANGLE_NAME: PENZER SCHOOL
QUADRANT: SW
WEST_LONGITUDE: -110 52 30.00000
EAST_LONGITUDE: -110 48 45.00000
NORTH_LATITUDE: 48 11 15.00000
SOUTH_LATITUDE: 48 7 30.00000
PRODUCTION_DATE: 2000 5 24
RASTER_ORDER: LEFT_RIGHT/TOP_BOTTOM
BAND_ORGANIZATION: SINGLE FILE
BAND_CONTENT: BLACK&WHITE
BAND_CONTENT: UNDEFINED
BAND_CONTENT: UNDEFINED
BITS_PER_PIXEL: 8
SAMPLES_AND_LINES: 5324 7562
HORIZONTAL_DATUM: NAD83
HORIZONTAL_COORDINATE_SYSTEM: UTM
COORDINATE_ZONE: 12
HORIZONTAL_UNITS: METERS
HORIZONTAL_RESOLUTION: 1.00000
SECONDARY_HORIZONTAL_DATUM: NAD27
XY_ORIGIN: 508930.00000 5337458.00000
SECONDARY_XY_ORIGIN: 508989.00800 5337241.74500
NATION: US
NATION: "SCIENCE
STATE: MT
NW_QUAD_CORNER_XY: 509290.59900 5337147.96500
NE_QUAD_CORNER_XY: 513935.89800 5337157.40700
SE_QUAD_CORNERY_XY: 513952.83300 5330210.60600
SW_QUAD_CORNER_XY: 509301.89000 5330201.16200
SECONDARY_NW_QUAD_XY: 509290.89300 5336929.04400
SECONDARY_NE_QUAD_XY: 513936.33800 5336938.48700
SECONDARY_SE_QUAD_XY: 513953.27300 5329991.69800
SECONDARY_SW_QUAD_XY: 509302.18300 5329982.25400
RMSE_XY: 2.30000
IMAGE_SOURCE: BLACK AND WHITE FILM
SOURCE_IMAGE_ID: NAPP 9168 036
SOURCE_IMAGE_DATE: 1996 08 26
SOURCE_IMAGE_ID: NAPP 9168 037
SOURCE_IMAGE_DATE: 1996 08 26
SOURCE_IMAGE_ID: NAPP 9168 035
SOURCE_IMAGE_DATE: 1996 08 26
SOURCE_DEM_DATE: 1969 00 00
AGENCY: WESTERN MAPPING CENTER (WMC)
PRODUCER: UNDEFINED
PRODUCTION_SYSTEM: GIS/MAGIC
COMPRESSION: UNDEFINED
STANDARD_VERSION: 1996 12
METADATA_DATE: 2000 06 13
DATA_FILE_SIZE: 40265412
BYTE_COUNT: 5324
