FILENAME: O4811050.SES.1080817.tif
QUADRANGLE_NAME: PENZER SCHOOL
QUADRANT: SE
WEST_LONGITUDE: -110 48 45.00000
EAST_LONGITUDE: -110 45 0.00000
NORTH_LATITUDE: 48 11 15.00000
SOUTH_LATITUDE: 48 7 30.00000
PRODUCTION_DATE: 2000 5 24
RASTER_ORDER: LEFT_RIGHT/TOP_BOTTOM
BAND_ORGANIZATION: SINGLE FILE
BAND_CONTENT: BLACK&WHITE
BAND_CONTENT: UNDEFINED
BAND_CONTENT: UNDEFINED
BITS_PER_PIXEL: 8
SAMPLES_AND_LINES: 5329 7566
HORIZONTAL_DATUM: NAD83
HORIZONTAL_COORDINATE_SYSTEM: UTM
COORDINATE_ZONE: 12
HORIZONTAL_UNITS: METERS
HORIZONTAL_RESOLUTION: 1.00000
SECONDARY_HORIZONTAL_DATUM: NAD27
XY_ORIGIN: 513576.00000 5337471.00000
SECONDARY_XY_ORIGIN: 513634.88800 5337254.81700
NATION: US
NATION: "SCIENCE
STATE: MT
NW_QUAD_CORNER_XY: 513935.89800 5337157.40700
NE_QUAD_CORNER_XY: 518581.19400 5337170.62600
SE_QUAD_CORNERY_XY: 518603.77500 5330223.82800
SW_QUAD_CORNER_XY: 513952.83300 5330210.60600
SECONDARY_NW_QUAD_XY: 513936.33800 5336938.48700
SECONDARY_NE_QUAD_XY: 518581.78100 5336951.70600
SECONDARY_SE_QUAD_XY: 518604.36200 5330004.92000
SECONDARY_SW_QUAD_XY: 513953.27300 5329991.69800
RMSE_XY: 1.20000
IMAGE_SOURCE: BLACK AND WHITE FILM
SOURCE_IMAGE_ID: NAPP 9167 293
SOURCE_IMAGE_DATE: 1996 08 26
SOURCE_IMAGE_ID: NAPP 9168 035
SOURCE_IMAGE_DATE: 1996 08 26
SOURCE_IMAGE_ID: NAPP 9167 292
SOURCE_IMAGE_DATE: 1996 08 26
SOURCE_DEM_DATE: 1969 00 00
AGENCY: WESTERN MAPPING CENTER (WMC)
PRODUCER: UNDEFINED
PRODUCTION_SYSTEM: GIS/MAGIC
COMPRESSION: UNDEFINED
STANDARD_VERSION: 1996 12
METADATA_DATE: 2000 06 13
DATA_FILE_SIZE: 40324543
BYTE_COUNT: 5329
