FILENAME: O4811051.NWS.1080832.tif
QUADRANGLE_NAME: DUTCH HENRY COULEE
QUADRANT: NW
WEST_LONGITUDE: -110 45 0.00000
EAST_LONGITUDE: -110 41 15.00000
NORTH_LATITUDE: 48 15 0.00000
SOUTH_LATITUDE: 48 11 15.00000
PRODUCTION_DATE: 2000 6 7
RASTER_ORDER: LEFT_RIGHT/TOP_BOTTOM
BAND_ORGANIZATION: SINGLE FILE
BAND_CONTENT: BLACK&WHITE
BAND_CONTENT: UNDEFINED
BAND_CONTENT: UNDEFINED
BITS_PER_PIXEL: 8
SAMPLES_AND_LINES: 5329 7570
HORIZONTAL_DATUM: NAD83
HORIZONTAL_COORDINATE_SYSTEM: UTM
COORDINATE_ZONE: 12
HORIZONTAL_UNITS: METERS
HORIZONTAL_RESOLUTION: 1.00000
SECONDARY_HORIZONTAL_DATUM: NAD27
XY_ORIGIN: 518199.00000 5344435.00000
SECONDARY_XY_ORIGIN: 518257.85700 5344218.61200
NATION: US
NATION: "SCIENCE
STATE: MT
NW_QUAD_CORNER_XY: 518558.59100 5344117.50000
NE_QUAD_CORNER_XY: 523198.23400 5344134.49100
SE_QUAD_CORNERY_XY: 523226.48800 5337187.62200
SW_QUAD_CORNER_XY: 518581.19400 5337170.62600
SECONDARY_NW_QUAD_XY: 518559.17800 5343898.56800
SECONDARY_NE_QUAD_XY: 523198.96800 5343915.56000
SECONDARY_SE_QUAD_XY: 523227.22200 5336968.70200
SECONDARY_SW_QUAD_XY: 518581.78100 5336951.70600
RMSE_XY: 1.50000
IMAGE_SOURCE: BLACK AND WHITE FILM
SOURCE_IMAGE_ID: NAPP 9167 188
SOURCE_IMAGE_DATE: 1996 08 26
SOURCE_IMAGE_ID: NAPP 9167 295
SOURCE_IMAGE_DATE: 1996 08 26
SOURCE_IMAGE_ID: NAPP 9167 296
SOURCE_IMAGE_DATE: 1996 08 26
SOURCE_IMAGE_ID: NAPP 9167 242
SOURCE_IMAGE_DATE: 1996 08 26
SOURCE_IMAGE_ID: NAPP 9167 241
SOURCE_IMAGE_DATE: 1996 08 26
SOURCE_DEM_DATE: 1968 00 00
AGENCY: WESTERN MAPPING CENTER (WMC)
PRODUCER: UNDEFINED
PRODUCTION_SYSTEM: GIS/MAGIC
COMPRESSION: UNDEFINED
STANDARD_VERSION: 1996 12
METADATA_DATE: 2000 06 13
DATA_FILE_SIZE: 40345859
BYTE_COUNT: 5329
