FILENAME: O4811054.SES.1080025.tif
QUADRANGLE_NAME: KENILWORTH NE
QUADRANT: SE
WEST_LONGITUDE: -110 18 45.00000
EAST_LONGITUDE: -110 15 0.00000
NORTH_LATITUDE: 48 11 15.00000
SOUTH_LATITUDE: 48 7 30.00000
PRODUCTION_DATE: 2000 5 10
RASTER_ORDER: LEFT_RIGHT/TOP_BOTTOM
BAND_ORGANIZATION: SINGLE FILE
BAND_CONTENT: BLACK&WHITE
BAND_CONTENT: UNDEFINED
BAND_CONTENT: UNDEFINED
BITS_PER_PIXEL: 8
SAMPLES_AND_LINES: 5373 7596
HORIZONTAL_DATUM: NAD83
HORIZONTAL_COORDINATE_SYSTEM: UTM
COORDINATE_ZONE: 12
HORIZONTAL_UNITS: METERS
HORIZONTAL_RESOLUTION: 1.00000
SECONDARY_HORIZONTAL_DATUM: NAD27
XY_ORIGIN: 550740.00000 5337713.00000
SECONDARY_XY_ORIGIN: 550798.69900 5337497.00100
NATION: US
NATION: "SCIENCE
STATE: MT
NW_QUAD_CORNER_XY: 551098.16700 5337368.91100
NE_QUAD_CORNER_XY: 555743.42700 5337412.34600
SE_QUAD_CORNERY_XY: 555811.17200 5330465.60500
SW_QUAD_CORNER_XY: 551160.26600 5330422.16000
SECONDARY_NW_QUAD_XY: 551099.78100 5337149.99700
SECONDARY_NE_QUAD_XY: 555745.18800 5337193.43300
SECONDARY_SE_QUAD_XY: 555812.93300 5330246.70500
SECONDARY_SW_QUAD_XY: 551161.88000 5330203.25900
RMSE_XY: 1.10000
IMAGE_SOURCE: BLACK AND WHITE FILM
SOURCE_IMAGE_ID: NAPP 9177 081
SOURCE_IMAGE_DATE: 1997 09 04
SOURCE_IMAGE_ID: NAPP 9177 080
SOURCE_IMAGE_DATE: 1997 09 04
SOURCE_DEM_DATE: 1968 00 00
AGENCY: WESTERN MAPPING CENTER (WMC)
PRODUCER: UNDEFINED
PRODUCTION_SYSTEM: GIS/MAGIC
COMPRESSION: UNDEFINED
STANDARD_VERSION: 1996 12
METADATA_DATE: 2000 06 12
DATA_FILE_SIZE: 40818681
BYTE_COUNT: 5373
