FILENAME: O4811056.NWS.1080048.tif
QUADRANGLE_NAME: BIG SANDY
QUADRANT: NW
WEST_LONGITUDE: -110 7 30.00000
EAST_LONGITUDE: -110 3 45.00000
NORTH_LATITUDE: 48 15 0.00000
SOUTH_LATITUDE: 48 11 15.00000
PRODUCTION_DATE: 2000 5 10
RASTER_ORDER: LEFT_RIGHT/TOP_BOTTOM
BAND_ORGANIZATION: SINGLE FILE
BAND_CONTENT: BLACK&WHITE
BAND_CONTENT: UNDEFINED
BAND_CONTENT: UNDEFINED
BITS_PER_PIXEL: 8
SAMPLES_AND_LINES: 5384 7608
HORIZONTAL_DATUM: NAD83
HORIZONTAL_COORDINATE_SYSTEM: UTM
COORDINATE_ZONE: 12
HORIZONTAL_UNITS: METERS
HORIZONTAL_RESOLUTION: 1.00000
SECONDARY_HORIZONTAL_DATUM: NAD27
XY_ORIGIN: 564597.00000 5344813.00000
SECONDARY_XY_ORIGIN: 564655.82600 5344596.70300
NATION: US
NATION: "SCIENCE
STATE: MT
NW_QUAD_CORNER_XY: 564954.80800 5344457.33800
NE_QUAD_CORNER_XY: 569594.39200 5344512.09200
SE_QUAD_CORNERY_XY: 569679.16000 5337565.31400
SW_QUAD_CORNER_XY: 565033.92400 5337510.54700
SECONDARY_NW_QUAD_XY: 564956.86300 5344238.41700
SECONDARY_NE_QUAD_XY: 569596.59400 5344293.17200
SECONDARY_SE_QUAD_XY: 569681.36200 5337346.40600
SECONDARY_SW_QUAD_XY: 565035.97900 5337291.63700
RMSE_XY: 0.90000
IMAGE_SOURCE: BLACK AND WHITE FILM
SOURCE_IMAGE_ID: NAPP 9178 263
SOURCE_IMAGE_DATE: 1997 09 04
SOURCE_DEM_DATE: 1968 00 00
AGENCY: WESTERN MAPPING CENTER (WMC)
PRODUCER: UNDEFINED
PRODUCTION_SYSTEM: GIS/MAGIC
COMPRESSION: UNDEFINED
STANDARD_VERSION: 1996 12
METADATA_DATE: 2000 06 12
DATA_FILE_SIZE: 40966856
BYTE_COUNT: 5384
