FILENAME: O4811058.SWS.1080798.tif
QUADRANGLE_NAME: GOOSE BILL BUTTE
QUADRANT: SW
WEST_LONGITUDE: -110 52 30.00000
EAST_LONGITUDE: -110 48 45.00000
NORTH_LATITUDE: 48 3 45.00000
SOUTH_LATITUDE: 48 0 0.00000
PRODUCTION_DATE: 2000 5 16
RASTER_ORDER: LEFT_RIGHT/TOP_BOTTOM
BAND_ORGANIZATION: SINGLE FILE
BAND_CONTENT: BLACK&WHITE
BAND_CONTENT: UNDEFINED
BAND_CONTENT: UNDEFINED
BITS_PER_PIXEL: 8
SAMPLES_AND_LINES: 5335 7562
HORIZONTAL_DATUM: NAD83
HORIZONTAL_COORDINATE_SYSTEM: UTM
COORDINATE_ZONE: 12
HORIZONTAL_UNITS: METERS
HORIZONTAL_RESOLUTION: 1.00000
SECONDARY_HORIZONTAL_DATUM: NAD27
XY_ORIGIN: 508953.00000 5323564.00000
SECONDARY_XY_ORIGIN: 509011.77200 5323348.35900
NATION: US
NATION: "SCIENCE
STATE: MT
NW_QUAD_CORNER_XY: 509313.16900 5323254.43400
NE_QUAD_CORNER_XY: 513969.75200 5323263.88100
SE_QUAD_CORNERY_XY: 513986.65400 5316317.23100
SW_QUAD_CORNER_XY: 509324.43700 5316307.78300
SECONDARY_NW_QUAD_XY: 509313.46300 5323035.54000
SECONDARY_NE_QUAD_XY: 513970.19200 5323044.98600
SECONDARY_SE_QUAD_XY: 513987.09400 5316098.35100
SECONDARY_SW_QUAD_XY: 509324.73100 5316088.90200
RMSE_XY: 2.40000
IMAGE_SOURCE: BLACK AND WHITE FILM
SOURCE_IMAGE_ID: NAPP 9168 040
SOURCE_IMAGE_DATE: 1996 08 26
SOURCE_IMAGE_ID: NAPP 9168 042
SOURCE_IMAGE_DATE: 1996 08 26
SOURCE_IMAGE_ID: NAPP 9168 041
SOURCE_IMAGE_DATE: 1996 08 26
SOURCE_IMAGE_ID: NAPP 9168 039
SOURCE_IMAGE_DATE: 1996 08 26
SOURCE_DEM_DATE: 1993 00 00
AGENCY: WESTERN MAPPING CENTER (WMC)
PRODUCER: UNDEFINED
PRODUCTION_SYSTEM: GIS/MAGIC
COMPRESSION: UNDEFINED
STANDARD_VERSION: 1996 12
METADATA_DATE: 2000 06 13
DATA_FILE_SIZE: 40348605
BYTE_COUNT: 5335
