FILENAME: O4811060.SES.1080861.tif
QUADRANGLE_NAME: DAY SCHOOL
QUADRANT: SE
WEST_LONGITUDE: -110 33 45.00000
EAST_LONGITUDE: -110 30 0.00000
NORTH_LATITUDE: 48 3 45.00000
SOUTH_LATITUDE: 48 0 0.00000
PRODUCTION_DATE: 2000 5 22
RASTER_ORDER: LEFT_RIGHT/TOP_BOTTOM
BAND_ORGANIZATION: SINGLE FILE
BAND_CONTENT: BLACK&WHITE
BAND_CONTENT: UNDEFINED
BAND_CONTENT: UNDEFINED
BITS_PER_PIXEL: 8
SAMPLES_AND_LINES: 5362 7581
HORIZONTAL_DATUM: NAD83
HORIZONTAL_COORDINATE_SYSTEM: UTM
COORDINATE_ZONE: 12
HORIZONTAL_UNITS: METERS
HORIZONTAL_RESOLUTION: 1.00000
SECONDARY_HORIZONTAL_DATUM: NAD27
XY_ORIGIN: 532237.00000 5323668.00000
SECONDARY_XY_ORIGIN: 532295.57500 5323452.41100
NATION: US
NATION: "SCIENCE
STATE: MT
NW_QUAD_CORNER_XY: 532596.06100 5323339.45200
NE_QUAD_CORNER_XY: 537252.63000 5323367.79200
SE_QUAD_CORNERY_XY: 537297.70300 5316421.16600
SW_QUAD_CORNER_XY: 532635.50000 5316392.82000
SECONDARY_NW_QUAD_XY: 532597.08800 5323120.56000
SECONDARY_NE_QUAD_XY: 537253.80300 5323148.90100
SECONDARY_SE_QUAD_XY: 537298.87700 5316202.28900
SECONDARY_SW_QUAD_XY: 532636.52700 5316173.94200
RMSE_XY: 2.40000
IMAGE_SOURCE: BLACK AND WHITE FILM
SOURCE_IMAGE_ID: NAPP 9167 084
SOURCE_IMAGE_DATE: 1996 08 26
SOURCE_IMAGE_ID: NAPP 9167 150
SOURCE_IMAGE_DATE: 1996 08 26
SOURCE_IMAGE_ID: NAPP 9167 083
SOURCE_IMAGE_DATE: 1996 08 26
SOURCE_DEM_DATE: 1990 00 00
AGENCY: WESTERN MAPPING CENTER (WMC)
PRODUCER: UNDEFINED
PRODUCTION_SYSTEM: GIS/MAGIC
COMPRESSION: UNDEFINED
STANDARD_VERSION: 1996 12
METADATA_DATE: 2000 06 13
DATA_FILE_SIZE: 40654684
BYTE_COUNT: 5362
