FILENAME: O4811061.SWS.1081000.tif
QUADRANGLE_NAME: KENILWORTH SW
QUADRANT: SW
WEST_LONGITUDE: -110 30 0.00000
EAST_LONGITUDE: -110 26 15.00000
NORTH_LATITUDE: 48 3 45.00000
SOUTH_LATITUDE: 48 0 0.00000
PRODUCTION_DATE: 2000 5 22
RASTER_ORDER: LEFT_RIGHT/TOP_BOTTOM
BAND_ORGANIZATION: SINGLE FILE
BAND_CONTENT: BLACK&WHITE
BAND_CONTENT: UNDEFINED
BAND_CONTENT: UNDEFINED
BITS_PER_PIXEL: 8
SAMPLES_AND_LINES: 5367 7585
HORIZONTAL_DATUM: NAD83
HORIZONTAL_COORDINATE_SYSTEM: UTM
COORDINATE_ZONE: 12
HORIZONTAL_UNITS: METERS
HORIZONTAL_RESOLUTION: 1.00000
SECONDARY_HORIZONTAL_DATUM: NAD27
XY_ORIGIN: 536894.00000 5323700.00000
SECONDARY_XY_ORIGIN: 536952.57900 5323484.38900
NATION: US
NATION: "SCIENCE
STATE: MT
NW_QUAD_CORNER_XY: 537252.63000 5323367.79200
NE_QUAD_CORNER_XY: 541909.19300 5323399.91000
SE_QUAD_CORNERY_XY: 541959.90100 5316453.29200
SW_QUAD_CORNER_XY: 537297.70300 5316421.16600
SECONDARY_NW_QUAD_XY: 537253.80300 5323148.90100
SECONDARY_NE_QUAD_XY: 541910.51400 5323181.02000
SECONDARY_SE_QUAD_XY: 541961.22200 5316234.41600
SECONDARY_SW_QUAD_XY: 537298.87700 5316202.28900
RMSE_XY: 1.60000
IMAGE_SOURCE: BLACK AND WHITE FILM
SOURCE_IMAGE_ID: NAPP 9177 243
SOURCE_IMAGE_DATE: 1997 09 04
SOURCE_IMAGE_ID: NAPP 9167 083
SOURCE_IMAGE_DATE: 1996 08 26
SOURCE_IMAGE_ID: NAPP 9177 242
SOURCE_IMAGE_DATE: 1997 09 04
SOURCE_IMAGE_ID: NAPP 9164 209
SOURCE_IMAGE_DATE: 1996 07 27
SOURCE_IMAGE_ID: NAPP 9177 173
SOURCE_IMAGE_DATE: 1997 09 04
SOURCE_DEM_DATE: 1991 00 00
AGENCY: WESTERN MAPPING CENTER (WMC)
PRODUCER: UNDEFINED
PRODUCTION_SYSTEM: GIS/MAGIC
COMPRESSION: UNDEFINED
STANDARD_VERSION: 1996 12
METADATA_DATE: 2000 06 13
DATA_FILE_SIZE: 40714062
BYTE_COUNT: 5367
