FILENAME: O4811061.NWS.1080998.tif
QUADRANGLE_NAME: KENILWORTH SW
QUADRANT: NW
WEST_LONGITUDE: -110 30 0.00000
EAST_LONGITUDE: -110 26 15.00000
NORTH_LATITUDE: 48 7 30.00000
SOUTH_LATITUDE: 48 3 45.00000
PRODUCTION_DATE: 2000 5 22
RASTER_ORDER: LEFT_RIGHT/TOP_BOTTOM
BAND_ORGANIZATION: SINGLE FILE
BAND_CONTENT: BLACK&WHITE
BAND_CONTENT: UNDEFINED
BAND_CONTENT: UNDEFINED
BITS_PER_PIXEL: 8
SAMPLES_AND_LINES: 5362 7585
HORIZONTAL_DATUM: NAD83
HORIZONTAL_COORDINATE_SYSTEM: UTM
COORDINATE_ZONE: 12
HORIZONTAL_UNITS: METERS
HORIZONTAL_RESOLUTION: 1.00000
SECONDARY_HORIZONTAL_DATUM: NAD27
XY_ORIGIN: 536849.00000 5330647.00000
SECONDARY_XY_ORIGIN: 536907.62300 5330431.18000
NATION: US
NATION: "SCIENCE
STATE: MT
NW_QUAD_CORNER_XY: 537207.51200 5330314.49300
NE_QUAD_CORNER_XY: 541858.43500 5330346.60400
SE_QUAD_CORNERY_XY: 541909.19300 5323399.91000
SW_QUAD_CORNER_XY: 537252.63000 5323367.79200
SECONDARY_NW_QUAD_XY: 537208.68600 5330095.58800
SECONDARY_NE_QUAD_XY: 541859.75600 5330127.70000
SECONDARY_SE_QUAD_XY: 541910.51400 5323181.02000
SECONDARY_SW_QUAD_XY: 537253.80300 5323148.90100
RMSE_XY: 1.80000
IMAGE_SOURCE: BLACK AND WHITE FILM
SOURCE_IMAGE_ID: NAPP 9177 241
SOURCE_IMAGE_DATE: 1997 09 04
SOURCE_IMAGE_ID: NAPP 9167 087
SOURCE_IMAGE_DATE: 1996 08 26
SOURCE_IMAGE_ID: NAPP 9177 242
SOURCE_IMAGE_DATE: 1997 09 04
SOURCE_IMAGE_ID: NAPP 9177 240
SOURCE_IMAGE_DATE: 1997 09 04
SOURCE_DEM_DATE: 1991 00 00
AGENCY: WESTERN MAPPING CENTER (WMC)
PRODUCER: UNDEFINED
PRODUCTION_SYSTEM: GIS/MAGIC
COMPRESSION: UNDEFINED
STANDARD_VERSION: 1996 12
METADATA_DATE: 2000 06 13
DATA_FILE_SIZE: 40676132
BYTE_COUNT: 5362
