FILENAME: O4811064.SES.1081043.tif
QUADRANGLE_NAME: LONETREE COULEE
QUADRANT: SE
WEST_LONGITUDE: -110 3 45.00000
EAST_LONGITUDE: -110 0 0.00000
NORTH_LATITUDE: 48 3 45.00000
SOUTH_LATITUDE: 48 0 0.00000
PRODUCTION_DATE: 2000 5 25
RASTER_ORDER: LEFT_RIGHT/TOP_BOTTOM
BAND_ORGANIZATION: SINGLE FILE
BAND_CONTENT: BLACK&WHITE
BAND_CONTENT: UNDEFINED
BAND_CONTENT: UNDEFINED
BITS_PER_PIXEL: 8
SAMPLES_AND_LINES: 5407 7611
HORIZONTAL_DATUM: NAD83
HORIZONTAL_COORDINATE_SYSTEM: UTM
COORDINATE_ZONE: 12
HORIZONTAL_UNITS: METERS
HORIZONTAL_RESOLUTION: 1.00000
SECONDARY_HORIZONTAL_DATUM: NAD27
XY_ORIGIN: 569490.00000 5324031.00000
SECONDARY_XY_ORIGIN: 569548.79600 5323815.26300
NATION: US
NATION: "SCIENCE
STATE: MT
NW_QUAD_CORNER_XY: 569848.44500 5323671.98000
NE_QUAD_CORNER_XY: 574504.96000 5323730.55200
SE_QUAD_CORNERY_XY: 574595.11200 5316784.00900
SW_QUAD_CORNER_XY: 569932.96200 5316725.42300
SECONDARY_NW_QUAD_XY: 569850.64600 5323453.09800
SECONDARY_NE_QUAD_XY: 574507.30800 5323511.67200
SECONDARY_SE_QUAD_XY: 574597.46000 5316565.14300
SECONDARY_SW_QUAD_XY: 569935.16300 5316506.55600
RMSE_XY: 1.00000
IMAGE_SOURCE: BLACK AND WHITE FILM
SOURCE_IMAGE_ID: NAPP 9178 204
SOURCE_IMAGE_DATE: 1997 09 04
SOURCE_IMAGE_ID: NAPP 9158 020
SOURCE_IMAGE_DATE: 1997 09 04
SOURCE_DEM_DATE: 1952 00 00
AGENCY: WESTERN MAPPING CENTER (WMC)
PRODUCER: UNDEFINED
PRODUCTION_SYSTEM: GIS/MAGIC
COMPRESSION: UNDEFINED
STANDARD_VERSION: 1996 12
METADATA_DATE: 2000 06 13
DATA_FILE_SIZE: 41158084
BYTE_COUNT: 5407
