FILENAME: O4811064.NES.1081041.tif
QUADRANGLE_NAME: LONETREE COULEE
QUADRANT: NE
WEST_LONGITUDE: -110 3 45.00000
EAST_LONGITUDE: -110 0 0.00000
NORTH_LATITUDE: 48 7 30.00000
SOUTH_LATITUDE: 48 3 45.00000
PRODUCTION_DATE: 2000 5 25
RASTER_ORDER: LEFT_RIGHT/TOP_BOTTOM
BAND_ORGANIZATION: SINGLE FILE
BAND_CONTENT: BLACK&WHITE
BAND_CONTENT: UNDEFINED
BAND_CONTENT: UNDEFINED
BITS_PER_PIXEL: 8
SAMPLES_AND_LINES: 5400 7612
HORIZONTAL_DATUM: NAD83
HORIZONTAL_COORDINATE_SYSTEM: UTM
COORDINATE_ZONE: 12
HORIZONTAL_UNITS: METERS
HORIZONTAL_RESOLUTION: 1.00000
SECONDARY_HORIZONTAL_DATUM: NAD27
XY_ORIGIN: 569406.00000 5330978.00000
SECONDARY_XY_ORIGIN: 569464.82300 5330762.05800
NATION: US
NATION: "SCIENCE
STATE: MT
NW_QUAD_CORNER_XY: 569763.84500 5330618.61000
NE_QUAD_CORNER_XY: 574414.71800 5330677.16800
SE_QUAD_CORNERY_XY: 574504.96000 5323730.55200
SW_QUAD_CORNER_XY: 569848.44500 5323671.98000
SECONDARY_NW_QUAD_XY: 569766.04600 5330399.71500
SECONDARY_NE_QUAD_XY: 574417.06600 5330458.27500
SECONDARY_SE_QUAD_XY: 574507.30800 5323511.67200
SECONDARY_SW_QUAD_XY: 569850.64600 5323453.09800
RMSE_XY: 1.00000
IMAGE_SOURCE: BLACK AND WHITE FILM
SOURCE_IMAGE_ID: NAPP 9178 206
SOURCE_IMAGE_DATE: 1997 09 04
SOURCE_DEM_DATE: 1952 00 00
AGENCY: WESTERN MAPPING CENTER (WMC)
PRODUCER: UNDEFINED
PRODUCTION_SYSTEM: GIS/MAGIC
COMPRESSION: UNDEFINED
STANDARD_VERSION: 1996 12
METADATA_DATE: 2000 06 13
DATA_FILE_SIZE: 41110200
BYTE_COUNT: 5400
