FILENAME: O4810901.NWS.1115145.tif
QUADRANGLE_NAME: WILD HORSE LAKE EAST
QUADRANT: NW
WEST_LONGITUDE: -110 0 0.00000
EAST_LONGITUDE: -109 56 15.00000
NORTH_LATITUDE: 49 0 0.00000
SOUTH_LATITUDE: 48 56 15.00000
PRODUCTION_DATE: 2000 11 1
RASTER_ORDER: LEFT_RIGHT/TOP_BOTTOM
BAND_ORGANIZATION: SINGLE FILE
BAND_CONTENT: BLACK&WHITE
BAND_CONTENT: UNDEFINED
BAND_CONTENT: UNDEFINED
BITS_PER_PIXEL: 8
SAMPLES_AND_LINES: 5327 7614
HORIZONTAL_DATUM: NAD83
HORIZONTAL_COORDINATE_SYSTEM: UTM
COORDINATE_ZONE: 12
HORIZONTAL_UNITS: METERS
HORIZONTAL_RESOLUTION: 1.00000
SECONDARY_HORIZONTAL_DATUM: NAD27
XY_ORIGIN: 572785.00000 5428301.00000
SECONDARY_XY_ORIGIN: 572842.77400 5428081.45400
NATION: US
NATION: CA
NATION: "SCIENCE
STATE: MT
NW_QUAD_CORNER_XY: 573142.01200 5427937.52300
NE_QUAD_CORNER_XY: 577713.31800 5427999.62500
SE_QUAD_CORNERY_XY: 577810.51800 5421051.99800
SW_QUAD_CORNER_XY: 573233.49400 5420989.87700
SECONDARY_NW_QUAD_XY: 573144.36100 5427718.52800
SECONDARY_NE_QUAD_XY: 577715.81400 5427780.63300
SECONDARY_SE_QUAD_XY: 577813.01400 5420833.00700
SECONDARY_SW_QUAD_XY: 573235.84300 5420770.88400
RMSE_XY: 1.40000
IMAGE_SOURCE: BLACK AND WHITE FILM
SOURCE_IMAGE_ID: NAPP 9158 049
SOURCE_IMAGE_DATE: 1997 09 04
SOURCE_IMAGE_ID: NAPP 9178 235
SOURCE_IMAGE_DATE: 1997 09 04
SOURCE_DEM_DATE: 1993 00 00
AGENCY: WESTERN MAPPING CENTER (WMC)
PRODUCER: UNDEFINED
PRODUCTION_SYSTEM: GIS/MAGIC
COMPRESSION: UNDEFINED
STANDARD_VERSION: 1996 12
METADATA_DATE: 2000 11 29
DATA_FILE_SIZE: 40565105
BYTE_COUNT: 5327
