FILENAME: O4810901.NES.1115144.tif
QUADRANGLE_NAME: WILD HORSE LAKE EAST
QUADRANT: NE
WEST_LONGITUDE: -109 56 15.00000
EAST_LONGITUDE: -109 52 30.00000
NORTH_LATITUDE: 49 0 0.00000
SOUTH_LATITUDE: 48 56 15.00000
PRODUCTION_DATE: 2000 11 1
RASTER_ORDER: LEFT_RIGHT/TOP_BOTTOM
BAND_ORGANIZATION: SINGLE FILE
BAND_CONTENT: BLACK&WHITE
BAND_CONTENT: UNDEFINED
BAND_CONTENT: UNDEFINED
BITS_PER_PIXEL: 8
SAMPLES_AND_LINES: 5332 7617
HORIZONTAL_DATUM: NAD83
HORIZONTAL_COORDINATE_SYSTEM: UTM
COORDINATE_ZONE: 12
HORIZONTAL_UNITS: METERS
HORIZONTAL_RESOLUTION: 1.00000
SECONDARY_HORIZONTAL_DATUM: NAD27
XY_ORIGIN: 577357.00000 5428366.00000
SECONDARY_XY_ORIGIN: 577414.75700 5428146.58600
NATION: US
NATION: CA
NATION: "SCIENCE
STATE: MT
NW_QUAD_CORNER_XY: 577713.31800 5427999.62500
NE_QUAD_CORNER_XY: 582284.61100 5428065.49200
SE_QUAD_CORNERY_XY: 582387.53000 5421117.88500
SW_QUAD_CORNER_XY: 577810.51800 5421051.99800
SECONDARY_NW_QUAD_XY: 577715.81400 5427780.63300
SECONDARY_NE_QUAD_XY: 582287.25300 5427846.50200
SECONDARY_SE_QUAD_XY: 582390.17200 5420898.89600
SECONDARY_SW_QUAD_XY: 577813.01400 5420833.00700
RMSE_XY: 0.80000
IMAGE_SOURCE: BLACK AND WHITE FILM
SOURCE_IMAGE_ID: NAPP 9128 225
SOURCE_IMAGE_DATE: 1996 07 29
SOURCE_DEM_DATE: 1993 00 00
AGENCY: WESTERN MAPPING CENTER (WMC)
PRODUCER: UNDEFINED
PRODUCTION_SYSTEM: GIS/MAGIC
COMPRESSION: UNDEFINED
STANDARD_VERSION: 1996 12
METADATA_DATE: 2000 11 29
DATA_FILE_SIZE: 40619176
BYTE_COUNT: 5332
